BEGIN:VCALENDAR
VERSION:2.0
PRODID:-//Sustainable Business Services - ECPv6.15.20//NONSGML v1.0//EN
CALSCALE:GREGORIAN
METHOD:PUBLISH
X-WR-CALNAME:Sustainable Business Services
X-ORIGINAL-URL:https://sbs.eco
X-WR-CALDESC:Events for Sustainable Business Services
REFRESH-INTERVAL;VALUE=DURATION:PT1H
X-Robots-Tag:noindex
X-PUBLISHED-TTL:PT1H
BEGIN:VTIMEZONE
TZID:UTC
BEGIN:STANDARD
TZOFFSETFROM:+0000
TZOFFSETTO:+0000
TZNAME:UTC
DTSTART:20250101T000000
END:STANDARD
END:VTIMEZONE
BEGIN:VEVENT
DTSTART;TZID=UTC:20260625T083000
DTEND;TZID=UTC:20260625T170000
DTSTAMP:20260423T181531
CREATED:20260417T074854Z
LAST-MODIFIED:20260417T074854Z
UID:10000453-1782376200-1782406800@sbs.eco
SUMMARY:The Future of Sustainability in Sport
DESCRIPTION:Using Sport as a force for good.\n\n\n\n\n\n\n\n\n\n\n100+ industry leaders\, athletes\, sportswear brands\, stadium executives\, policy makers\, and investors will convene on 25 June 2026 for The Future of Sustainable Sport Summit at Earthfest 2026. \nThis high-profile summit will serve as the flagship platform for discussions on sustainability and sport during London Climate Action Week\, uniting elite athletes\, global organisations\, brands and policymakers to explore how sport can drive a more sustainable world. \nThrough keynotes\, panels\, and case studies\, the summit will examine sustainable events and venues\, eco-innovation in sportswear\, and the role of athletes as advocates for change. \nDiscussions will highlight the intersection of health\, fitness\, and environmental well-being\, alongside new partnerships driving a lower-carbon sports industry. \nWith high-profile speakers\, interactive showcases\, and athlete-led experiences\, the summit will celebrate the power of movement to inspire a more sustainable future. \nAgenda\n\n\nHere’s an overview of what to expect at the summit. \nThis is a draft agenda\, and sessions and timings are likely to change. \n\n\n\n\n\n\n\n\n\n\n\n25 June 2026 \n\n\n08:30 GMT\n\n\n\n\n\nRegistration & Networking Breakfast\n\n\n\n\n\n\n\n\n\n\n\n09:15 GMT\n\n\n\n\n\nOpening Remarks\n\n\n\n\n\n\n\n\n\n\n\n09:30 GMT\n\n\n\n\n\nOpening Keynote: The Power of Sport to Drive Climate Action\n\n\n\n\n\n\n\n\n\n\n\n10:15 GMT\n\n\n\n\n\nGreening Major Sports Events\n\n\n\n\n\n\n\n\n\n\n\n11:00 GMT\n\n\n\n\n\nCoffee & Networking Break\n\n\n\n\n\n\n\n\n\n\n\n11:15 GMT\n\n\n\n\n\nSustainable Activewear & Equipment Innovation\n\n\n\n\n\n\n\n\n\n\n\n12:45 GMT\n\n\n\n\n\nNetworking Lunch\n\n\n\n\n\n\n\n\n\n\n\n13:45 GMT\n\n\n\n\n\nAthlete Voices & the Power of Influence\n\n\n\n\n\n\n\n\n\n\n\n14:30 GMT\n\n\n\n\n\nCommunity Sport & Health\n\n\n\n\n\n\n\n\n\n\n\n15:15 GMT\n\n\n\n\n\nCoffee & Networking Break\n\n\n\n\n\n\n\n\n\n\n\n15:30 GMT\n\n\n\n\n\nFinancing & Partnerships for Sustainable Sport\n\n\n\n\n\n\n\n\n\n\n\n16:15 GMT\n\n\n\n\n\nThe Future of Sport: Leading the Race for a Sustainable World\n\n\n\n\n\n\n\n\n\n\n\n16:45 GMT\n\n\n\n\n\nClosing remarks\n\n\n\n\n\n\n\n\n\n\n\n17:00 GMT\n\n\n\n\n\nVIP Networking Drinks
URL:https://sbs.eco/sustainable-events/the-future-of-sustainability-in-sport/
LOCATION:Samsung KX\, London
ATTACH;FMTTYPE=image/png:https://sbs.eco/wp-content/uploads/2026/04/sustainable_sport.png
END:VEVENT
END:VCALENDAR