BEGIN:VCALENDAR
VERSION:2.0
PRODID:-//Sustainable Business Services - ECPv6.15.20//NONSGML v1.0//EN
CALSCALE:GREGORIAN
METHOD:PUBLISH
X-ORIGINAL-URL:https://sbs.eco
X-WR-CALDESC:Events for Sustainable Business Services
REFRESH-INTERVAL;VALUE=DURATION:PT1H
X-Robots-Tag:noindex
X-PUBLISHED-TTL:PT1H
BEGIN:VTIMEZONE
TZID:Europe/London
BEGIN:DAYLIGHT
TZOFFSETFROM:+0000
TZOFFSETTO:+0100
TZNAME:BST
DTSTART:20250330T010000
END:DAYLIGHT
BEGIN:STANDARD
TZOFFSETFROM:+0100
TZOFFSETTO:+0000
TZNAME:GMT
DTSTART:20251026T010000
END:STANDARD
BEGIN:DAYLIGHT
TZOFFSETFROM:+0000
TZOFFSETTO:+0100
TZNAME:BST
DTSTART:20260329T010000
END:DAYLIGHT
BEGIN:STANDARD
TZOFFSETFROM:+0100
TZOFFSETTO:+0000
TZNAME:GMT
DTSTART:20261025T010000
END:STANDARD
BEGIN:DAYLIGHT
TZOFFSETFROM:+0000
TZOFFSETTO:+0100
TZNAME:BST
DTSTART:20270328T010000
END:DAYLIGHT
BEGIN:STANDARD
TZOFFSETFROM:+0100
TZOFFSETTO:+0000
TZNAME:GMT
DTSTART:20271031T010000
END:STANDARD
END:VTIMEZONE
BEGIN:VEVENT
DTSTART;VALUE=DATE:20260728
DTEND;VALUE=DATE:20260729
DTSTAMP:20260423T212134
CREATED:20260415T064628Z
LAST-MODIFIED:20260415T064628Z
UID:10000445-1785196800-1785283199@sbs.eco
SUMMARY:Earth Overshoot Day
DESCRIPTION:Marks the date when humanity’s demand exceeds Earth’s regenerative capacity. \nWhat You’ll Learn\nUnderstand ecological overshoot to inform sustainability strategies; track progress in reducing ecological footprint; apply insights to resource management and long-term business viability within planetary boundaries. \nWho Should Attend\nSustainability managers\, CSR directors\, business leaders in supply chain and operations\, policymakers\, and ESG professionals seeking to align operations with planetary limits. \nAbout the Event\nEarth Overshoot Day marks the date when humanity’s demand for ecological resources and services in a given year exceeds what Earth can regenerate that year. This ecological deficit is maintained by liquidating stocks of ecological resources and accumulating waste\, primarily carbon dioxide in the atmosphere. The date is calculated by the Global Footprint Network by dividing the planet’s biocapacity by humanity’s Ecological Footprint and multiplying by 365 days. It is announced annually on World Environment Day\, June 5. \nEvent Details\nOrganiser: Global Footprint Network \nOrganiser website:\n\n \nGlobal Footprint Network \n\n \nStart:\n\n2026-07-29\n \nEnd:\n \n  \nEvent link:\n\nView event details
URL:https://sbs.eco/sustainable-events/earth-overshoot-day/
LOCATION:Online\, -\, Global
CATEGORIES:International Awareness Days,Net Zero & Climate
ATTACH;FMTTYPE=image/png:https://sbs.eco/wp-content/uploads/2026/04/earth-overshoot-day-2026.png
END:VEVENT
END:VCALENDAR