BEGIN:VCALENDAR
VERSION:2.0
PRODID:-//Sustainable Business Services - ECPv6.15.20//NONSGML v1.0//EN
CALSCALE:GREGORIAN
METHOD:PUBLISH
X-ORIGINAL-URL:https://sbs.eco
X-WR-CALDESC:Events for Sustainable Business Services
REFRESH-INTERVAL;VALUE=DURATION:PT1H
X-Robots-Tag:noindex
X-PUBLISHED-TTL:PT1H
BEGIN:VTIMEZONE
TZID:UTC
BEGIN:STANDARD
TZOFFSETFROM:+0000
TZOFFSETTO:+0000
TZNAME:UTC
DTSTART:20240101T000000
END:STANDARD
END:VTIMEZONE
BEGIN:VEVENT
DTSTART;TZID=UTC:20251006T080000
DTEND;TZID=UTC:20251007T170000
DTSTAMP:20260424T042822
CREATED:20250804T164957Z
LAST-MODIFIED:20250804T164957Z
UID:10000241-1759737600-1759856400@sbs.eco
SUMMARY:Sustainability Week Europe
DESCRIPTION:Welcome to Sustainability Week Europe\n\nSustainability Week Europe 2025 brings together leaders in business\, policy and innovation to share case-studies\, insights and ideas about climate solutions that work for business and the planet. \nFrom deploying transformative technology to meeting sustainability regulations\, the event empowers attendees to enact measurable change across operations\, supply chains and finance. \nJoin 500+ in-person attendees at Sustainability Week Europe \nIn-person venue \nMövenpick Hotel\nAmsterdam City Centre\, Piet Heinkade 11\, 1019 BR Amsterdam\, Nederland
URL:https://sbs.eco/sustainable-events/sustainability-week-europe/
LOCATION:Movenpick Hotel\, Amsterdam City Centre\, Piet Heinkade 11\, 1019\, BR Amsterdam\,\, Netherlands
CATEGORIES:Events,Sustainability
ATTACH;FMTTYPE=image/png:https://sbs.eco/wp-content/uploads/2025/08/Sust_Wk_Europe.png
END:VEVENT
END:VCALENDAR