BEGIN:VCALENDAR
VERSION:2.0
PRODID:-//Sustainable Business Services - ECPv6.15.20//NONSGML v1.0//EN
CALSCALE:GREGORIAN
METHOD:PUBLISH
X-WR-CALNAME:Sustainable Business Services
X-ORIGINAL-URL:https://sbs.eco
X-WR-CALDESC:Events for Sustainable Business Services
REFRESH-INTERVAL;VALUE=DURATION:PT1H
X-Robots-Tag:noindex
X-PUBLISHED-TTL:PT1H
BEGIN:VTIMEZONE
TZID:UTC
BEGIN:STANDARD
TZOFFSETFROM:+0000
TZOFFSETTO:+0000
TZNAME:UTC
DTSTART:20250101T000000
END:STANDARD
END:VTIMEZONE
BEGIN:VEVENT
DTSTART;VALUE=DATE:20260129
DTEND;VALUE=DATE:20260131
DTSTAMP:20260424T001515
CREATED:20251202T073813Z
LAST-MODIFIED:20251202T073813Z
UID:10000285-1769644800-1769817599@sbs.eco
SUMMARY:Waste Smart Plus (Advanced)
DESCRIPTION:AIMS\nTo provide you with the knowledge\, understanding and skills to: \nReduce costs and aid compliance by preventing wastes arising from workplace\nactivities\nImprove the management of wastes that are unavoidable \nCOURSE CONTENT\nThe course is comprised of 8 sessions: \nWaste as a resource\nThe environmental impact of waste\nThe cost of managing waste\nUnderstanding and applying the Waste Hierarchy\nLegislation and ensuring compliance\nHow to identify opportunities to reduce waste in the workplace\nManaging resources and wastes in the workplace\nHow to demonstrate improvements \nWHAT YOU WILL GET OUT OF THE COURSE\nThe knowledge to help you identify improvements in resource and waste\nmanagement\nThe understanding of where and how to make those improvements\nThe skills to implement those improvements and demonstrate their impact to others\nA certificate to demonstrate successful achievement of the course
URL:https://sbs.eco/sustainable-events/waste-smart-plus-advanced-2/
LOCATION:Virtual
CATEGORIES:Training,Waste
ATTACH;FMTTYPE=image/png:https://sbs.eco/wp-content/uploads/2024/09/waste_Graphic_JS-150324.png
END:VEVENT
BEGIN:VEVENT
DTSTART;TZID=UTC:20260121T090000
DTEND;TZID=UTC:20260122T150000
DTSTAMP:20260424T001515
CREATED:20251202T073253Z
LAST-MODIFIED:20251202T073253Z
UID:10000283-1768986000-1769094000@sbs.eco
SUMMARY:Waste Smart (Foundation) Training
DESCRIPTION:AIMS:\nTo provide you with the knowledge\, understanding and skills to: \nPrevent wastes arising from workplace activities\nContribute to improving the management of resources \nCOURSE CONTENT:\nThe course is comprised of 5 sessions: \nWaste as a resource\nThe environmental impact of waste\nThe cost of managing waste\nUnderstanding and applying the Waste Hierarchy\nLegislation and compliance \nWHAT YOU WILL GET OUT OF THE COURSE: \nUnderstanding why improving resource and waste management is important\nKnowledge of key regulations and understanding of the responsibilities of\nthose directly involved in managing wastes\nUnderstanding how resource management can be improved through\nreducing waste in the workplace\nSkills to identify improvements in your own workplace\nA certificate to demonstrate successful achievement of the course
URL:https://sbs.eco/sustainable-events/waste-smart-foundation-training/
LOCATION:Virtual
CATEGORIES:Training,Waste
ATTACH;FMTTYPE=image/png:https://sbs.eco/wp-content/uploads/2024/09/waste_Graphic_JS-150324.png
END:VEVENT
BEGIN:VEVENT
DTSTART;TZID=UTC:20260114T080000
DTEND;TZID=UTC:20260115T170000
DTSTAMP:20260424T001515
CREATED:20251202T071551Z
LAST-MODIFIED:20251202T071551Z
UID:10000282-1768377600-1768496400@sbs.eco
SUMMARY:Waste Smart (Foundation) Training
DESCRIPTION:AIMS:\nTo provide you with the knowledge\, understanding and skills to: \nPrevent wastes arising from workplace activities\nContribute to improving the management of resources \nCOURSE CONTENT:\nThe course is comprised of 5 sessions: \nWaste as a resource\nThe environmental impact of waste\nThe cost of managing waste\nUnderstanding and applying the Waste Hierarchy\nLegislation and compliance \nWHAT YOU WILL GET OUT OF THE COURSE: \nUnderstanding why improving resource and waste management is important\nKnowledge of key regulations and understanding of the responsibilities of\nthose directly involved in managing wastes\nUnderstanding how resource management can be improved through\nreducing waste in the workplace\nSkills to identify improvements in your own workplace\nA certificate to demonstrate successful achievement of the course
URL:https://sbs.eco/sustainable-events/waste-smart-training/
LOCATION:Virtual
CATEGORIES:Training,Waste
ATTACH;FMTTYPE=image/png:https://sbs.eco/wp-content/uploads/2024/09/waste_Graphic_JS-150324.png
END:VEVENT
END:VCALENDAR