BEGIN:VCALENDAR
VERSION:2.0
PRODID:-//Sustainable Business Services - ECPv6.15.20//NONSGML v1.0//EN
CALSCALE:GREGORIAN
METHOD:PUBLISH
X-WR-CALNAME:Sustainable Business Services
X-ORIGINAL-URL:https://sbs.eco
X-WR-CALDESC:Events for Sustainable Business Services
REFRESH-INTERVAL;VALUE=DURATION:PT1H
X-Robots-Tag:noindex
X-PUBLISHED-TTL:PT1H
BEGIN:VTIMEZONE
TZID:UTC
BEGIN:STANDARD
TZOFFSETFROM:+0000
TZOFFSETTO:+0000
TZNAME:UTC
DTSTART:20250101T000000
END:STANDARD
END:VTIMEZONE
BEGIN:VEVENT
DTSTART;TZID=UTC:20260909T080000
DTEND;TZID=UTC:20260910T170000
DTSTAMP:20260423T212808
CREATED:20251001T125213Z
LAST-MODIFIED:20251001T125213Z
UID:10000258-1788940800-1789059600@sbs.eco
SUMMARY:The International Conference on Sustainable Development
DESCRIPTION:Conference Objective and Philosophical Framework\n\nThe International Conference on Sustainable Development is organized by the European Center of Sustainable Development in collaboration with CIT University.\nThe 14th ICSD 2026 draws inspiration from the pressing challenges of environmental\, economic\, and socio-cultural sustainability\, addressing the needs of present and future generations within a global-scale context.\n\nThe Conference venue is:\n\nRoma Eventi\, Congress Center\, Piazza della Pilotta\, 4\, Rome\, Italy\nWe are pleased to welcome you to ICSD 2026\, held in the very heart of historic Rome.\nThe venue\, Roma Eventi\, located within the premises of the Pontifical Gregorian University\, at Piazza della Pilotta 4\, Rome\, Italy\, lies just steps from the iconic Trevi Fountain\, and within walking distance of the Spanish Steps\, Piazza Venezia\, the Pantheon\, the Roman Forum\, Piazza Navona\, and the Colosseum. \nIt is a setting of enduring inspiration – where timeless cultural heritage meets academic thought – an ideal place for global dialogue on sustainable development. \nConference dates: Wednesday\, 09 September – Thursday\, 10 September 2026\n\n\n\n\n\nDownload Venue Information\n                   Download the Conference Program\n\n\n\n\n\n\nThe Conference theme is:\n“Creating a unified foundation for the Sustainable Development: research\, practice and education”.\n\n\n\nThis theme emphasizes the strong foundation that is provided by using research to inform our everyday practices\, policies\, and analytical approaches.\n\n The 2026 Conference will once again provide a forum for the sharing of ideas\, presentation of research findings\, and discussion of professional issues relevant to Sustainability Science.\nThis initiative will advance through a multidisciplinary approach\, integrating diverse fields and perspectives to address the core and interconnected questions of Sustainable Development. It serves as a collaborative platform for scholars\, educators\, and practitioners from all professional disciplines who share a commitment to sustainability. The focus is on a holistic perspective that embraces the intersection of environmental\, cultural\, economic\, and social dimensions. \nWe invite you to submit an abstract in the range of the following streams within the ICSD2026 program: \n1. ECONOMIC SUSTAINABILITY:\n    Financial Sustainability\, SMEs\, Microfinance\, Emerging Economies\, International Trade\, Circular Economy\, Green Financing\, Public-Private\n    Partnerships\, Economic Resilience\, Sustainable Business Models\, and Data-Driven Economic Strategies..\n\n2. ENVIRONMENTAL SUSTAINABILITY:\n    Water and Soil conservation\, Climate Change\, Disaster Risk Reduction\, Renewable Energy\, Food and Environmental Legislation\, Biodiversity\n    Conservation\, Sustainable Agriculture\, Waste Management\, Carbon Neutral Strategies\, Urban Ecosystem Restoration\, and Mathematical\n    Modeling for Environmental Challenges.\n\n3. SOCIO-CULTURAL SUSTAINABILITY:\n    Sustainable Urbanism\, Education\, Governance\, Human Development\, Psychology\, Sociology\, Cultural Heritage Preservation\, Social Equity\,\n   Community Engagement\, Indigenous Knowledge Systems\, Health and Well-being\, Public Health Systems.\n\nWe are inviting proposals for paper presentations\, posters/exhibits\, or virtual presentation. Proposal ideas that extend beyond these thematic areas will also be considered.  For more information about the ideas and themes underlying this community send an e-mail at: icsd@ecsdev.org Virtual participation is available for those who are unable to attend the conference in person.  All conference registrants (online and online poster) can be published in the European Journal of Sustainable Development.
URL:https://sbs.eco/sustainable-events/the-international-conference-on-sustainable-development/
LOCATION:Roma Eventi\, Congress Centre\, Piazza della Pilotta\, Rome\, Italy
CATEGORIES:Planet,Sustainability
ATTACH;FMTTYPE=image/png:https://sbs.eco/wp-content/uploads/2025/10/ICSD_Rome.png
END:VEVENT
END:VCALENDAR