BEGIN:VCALENDAR
VERSION:2.0
PRODID:-//Sustainable Business Services - ECPv6.15.20//NONSGML v1.0//EN
CALSCALE:GREGORIAN
METHOD:PUBLISH
X-ORIGINAL-URL:https://sbs.eco
X-WR-CALDESC:Events for Sustainable Business Services
REFRESH-INTERVAL;VALUE=DURATION:PT1H
X-Robots-Tag:noindex
X-PUBLISHED-TTL:PT1H
BEGIN:VTIMEZONE
TZID:UTC
BEGIN:STANDARD
TZOFFSETFROM:+0000
TZOFFSETTO:+0000
TZNAME:UTC
DTSTART:20240101T000000
END:STANDARD
END:VTIMEZONE
BEGIN:VEVENT
DTSTART;TZID=UTC:20260204T123000
DTEND;TZID=UTC:20260204T133000
DTSTAMP:20260423T225053
CREATED:20260105T153502Z
LAST-MODIFIED:20260120T085157Z
UID:10000313-1770208200-1770211800@sbs.eco
SUMMARY:Unlocking the Benefits of Responsible Business
DESCRIPTION:Overview\n\n\n\n\n\nDiscover how environmental action\, wellbeing and inclusion unite to create responsible-business impact in this practical fireside chat.\n\n\n\nHow can organisations make responsible business more than a buzzword? \nHow can environmental action\, wellbeing and inclusion come together to create real\, measurable impact? \nJoin Positive About Inclusion\, Genee\, and Venture Zero for a dynamic fireside chat exploring how organisations can unlock the full benefits of responsible business. This session brings together three leading consultancies whose work spans environmental performance\, workplace wellbeing\, Carbon Literacy\, and inclusive culture offering a rare\, joined-up perspective on what responsible business really looks like in practice. \nWhether you’re just getting started\, looking to strengthen your ESG and social value commitments\, or seeking practical ideas to engage your teams\, this conversation will give you inspiration and actionable insights you can use immediately. \nWhat to Expect \nIn this lively\, interactive conversation\, we’ll explore: \n\nWhy responsible business is becoming essential — not optional\nHow environmental auditing and strong frameworks drive real progress\nWhy wellbeing and understanding climate change matter for engagement and culture\nHow inclusion and leadership shape trustworthy\, people centred organisations\nThe power of collaboration across People and Planet agendas\nPractical steps any organisation can take to start making meaningful change\n\nWith speakers from three specialist organisations\, you’ll hear real stories\, practical examples\, and insights drawn from working closely with businesses\, public sector bodies and VCSE organisations across the UK. \nMore info about our speakers \nPositive About Inclusion CIC is an equity\, diversity and inclusion (EDI) consultancy and training provider. We work with businesses across the public\, private and third sectors\, supporting them to create inclusive workplace cultures where everyone can feel a sense of belonging. Established in 2020 when our co-founders Lucy Malarkey and Karen Faulkner pivoted from long careers in the public sector\, Positive About Inclusion is a profit for purpose social enterprise. As well as providing bespoke training and consultancy solutions\, we generate further positive social impact through the Inclusion Forum North East\, a free network for like minded professionals who share a passion for EDI to connect\, collaborate and cultivate skills and knowledge. \nGenee Consulting Ltd are a B Corp certified environmental consultancy based in Gateshead\, and the North East and North West delivery partner for Investors in the Environment\, a nationally recognised environmental accreditation scheme. The Investors in the Environment programme offers a framework to support organisations through the development and maintenance of an environmental management system\, one which works for your organisation\, not against it. Through the framework\, your organisation can identify environmental impacts and put actions in place to drive reductions and find cost savings. In this webinar\, Genee will show how strong environmental foundations not only build trust and reduce risk but also unlock real\, lasting benefits for organisations committed to responsible business. \nVenture Zero is a purpose-led\, B Corp Pending organisation that works cross-sector to help businesses and communities contribute to a healthier\, more sustainable world. We believe responsible businesses should recognise the deep synergy between our health and wellbeing\, the natural environment and community engagement – and we deliver accredited Carbon Literacy training and MHFA England–certified Mental Health First Aid training to inspire meaningful action in these areas. Through our North East–based Impact Network\, we share knowledge\, spark conversations and create connections that support organisations on their journey toward sustainable wellbeing and becoming better\, more responsible businesses.
URL:https://sbs.eco/sustainable-events/unlocking-the-benefits-of-responsible-business/
LOCATION:Online\, -\, Global
CATEGORIES:Business for Good
ATTACH;FMTTYPE=image/png:https://sbs.eco/wp-content/uploads/2026/01/sustainable_wellbeing.png
END:VEVENT
BEGIN:VEVENT
DTSTART;TZID=UTC:20251118T093000
DTEND;TZID=UTC:20251118T143000
DTSTAMP:20260423T225053
CREATED:20251106T185256Z
LAST-MODIFIED:20251106T185256Z
UID:10000271-1763458200-1763476200@sbs.eco
SUMMARY:North East Recycling Forum Annual Conference
DESCRIPTION:Overview\n\n\n\n\n\nJoin us for our Annual Conference where we will hear from our colleagues in the waste and recycling sector\, and share best practice.\n\n\n\n\nCategory: Charity & Causes\, Environment\n\n\n\n\n\n\n\n\nPerformers\n\n\nHeadliners\n\nMargaret Bates\n\nMore Performers\n\nEllie Grimes\nMatt Bond\nCharlotte Rule\nDuncan Simpson\nDr Stephen Wise
URL:https://sbs.eco/sustainable-events/north-east-recycling-forum-annual-conference/
LOCATION:Banqueting Hall\, Newcastle upon Tyne\, NE99 1NP
CATEGORIES:Events,Waste
ATTACH;FMTTYPE=image/png:https://sbs.eco/wp-content/uploads/2025/11/NE-Recycling-conference.png
END:VEVENT
END:VCALENDAR