BEGIN:VCALENDAR
VERSION:2.0
PRODID:-//Sustainable Business Services - ECPv6.15.20//NONSGML v1.0//EN
CALSCALE:GREGORIAN
METHOD:PUBLISH
X-ORIGINAL-URL:https://sbs.eco
X-WR-CALDESC:Events for Sustainable Business Services
REFRESH-INTERVAL;VALUE=DURATION:PT1H
X-Robots-Tag:noindex
X-PUBLISHED-TTL:PT1H
BEGIN:VTIMEZONE
TZID:Europe/London
BEGIN:DAYLIGHT
TZOFFSETFROM:+0000
TZOFFSETTO:+0100
TZNAME:BST
DTSTART:20250330T010000
END:DAYLIGHT
BEGIN:STANDARD
TZOFFSETFROM:+0100
TZOFFSETTO:+0000
TZNAME:GMT
DTSTART:20251026T010000
END:STANDARD
BEGIN:DAYLIGHT
TZOFFSETFROM:+0000
TZOFFSETTO:+0100
TZNAME:BST
DTSTART:20260329T010000
END:DAYLIGHT
BEGIN:STANDARD
TZOFFSETFROM:+0100
TZOFFSETTO:+0000
TZNAME:GMT
DTSTART:20261025T010000
END:STANDARD
BEGIN:DAYLIGHT
TZOFFSETFROM:+0000
TZOFFSETTO:+0100
TZNAME:BST
DTSTART:20270328T010000
END:DAYLIGHT
BEGIN:STANDARD
TZOFFSETFROM:+0100
TZOFFSETTO:+0000
TZNAME:GMT
DTSTART:20271031T010000
END:STANDARD
END:VTIMEZONE
BEGIN:VEVENT
DTSTART;VALUE=DATE:20260617
DTEND;VALUE=DATE:20260618
DTSTAMP:20260423T181641
CREATED:20260120T080229Z
LAST-MODIFIED:20260120T080229Z
UID:10000349-1781654400-1781740799@sbs.eco
SUMMARY:Clean Air Day
DESCRIPTION:Clean Air Day is the UK’s largest air pollution awareness campaign\, organised annually by Global Action Plan to raise public understanding and drive action for cleaner air. \nWhat You’ll Learn\nAccess free resources for Clean Air Day events\, encourage low-emission commuting among employees\, partner with Global Action Plan on air quality initiatives\, advocate for policy changes affecting business operations. \nWho Should Attend\nBusinesses committed to sustainability\, HR and facilities managers\, schools\, local authorities\, healthcare professionals\, community groups. \nAbout the Event\nClean Air Day\, launched in 2017 by Global Action Plan\, is held every third Thursday in June. It raises awareness of air pollution’s impacts on health and the environment\, encouraging individuals\, communities\, schools\, businesses\, and local authorities to take action. The campaign provides resources for events and petitions to influence policy\, such as cleaner transport. \nAir pollution is linked to thousands of premature deaths annually in the UK. Past campaigns have increased public prioritisation of the issue\, with more people choosing active travel over cars. Global Action Plan collaborates with organisations to mobilise the Clean Air movement. \nThe day promotes simple actions like reducing car idling\, walking or cycling\, and advocating for systemic changes to eliminate fossil fuel use in urban areas. \nEvent Details\nOrganiser: Global Action Plan \nOrganiser website:\n\nhttps://www.globalactionplan.org.uk/\n \nStart:\n\n2026-06-18\n \nEnd:\n\n2026-06-18\n \nEvent link:\n\nView event details
URL:https://sbs.eco/sustainable-events/clean-air-day-2/
LOCATION:United Kingdom (multiple community locations)\, United Kingdom
CATEGORIES:Net Zero & Climate
ATTACH;FMTTYPE=image/jpeg:https://sbs.eco/wp-content/uploads/2023/03/durham_Free_Pixbay_StockImage_JS-200121.jpg
END:VEVENT
END:VCALENDAR