BEGIN:VCALENDAR
VERSION:2.0
PRODID:-//Sustainable Business Services - ECPv6.15.20//NONSGML v1.0//EN
CALSCALE:GREGORIAN
METHOD:PUBLISH
X-WR-CALNAME:Sustainable Business Services
X-ORIGINAL-URL:https://sbs.eco
X-WR-CALDESC:Events for Sustainable Business Services
REFRESH-INTERVAL;VALUE=DURATION:PT1H
X-Robots-Tag:noindex
X-PUBLISHED-TTL:PT1H
BEGIN:VTIMEZONE
TZID:Europe/London
BEGIN:DAYLIGHT
TZOFFSETFROM:+0000
TZOFFSETTO:+0100
TZNAME:BST
DTSTART:20250330T010000
END:DAYLIGHT
BEGIN:STANDARD
TZOFFSETFROM:+0100
TZOFFSETTO:+0000
TZNAME:GMT
DTSTART:20251026T010000
END:STANDARD
BEGIN:DAYLIGHT
TZOFFSETFROM:+0000
TZOFFSETTO:+0100
TZNAME:BST
DTSTART:20260329T010000
END:DAYLIGHT
BEGIN:STANDARD
TZOFFSETFROM:+0100
TZOFFSETTO:+0000
TZNAME:GMT
DTSTART:20261025T010000
END:STANDARD
BEGIN:DAYLIGHT
TZOFFSETFROM:+0000
TZOFFSETTO:+0100
TZNAME:BST
DTSTART:20270328T010000
END:DAYLIGHT
BEGIN:STANDARD
TZOFFSETFROM:+0100
TZOFFSETTO:+0000
TZNAME:GMT
DTSTART:20271031T010000
END:STANDARD
END:VTIMEZONE
BEGIN:VEVENT
DTSTART;VALUE=DATE:20260426
DTEND;VALUE=DATE:20260428
DTSTAMP:20260423T181655
CREATED:20260120T091640Z
LAST-MODIFIED:20260120T091702Z
UID:10000345-1777161600-1777334399@sbs.eco
SUMMARY:Impact Investing World Forum 2026
DESCRIPTION:Two-day impact investing conference in London for responsible investors and sustainability leaders\, focusing on ESG\, impact measurement and nature-positive strategies. \nWhat You’ll Learn\nParticipants can deepen their understanding of impact investing trends\, ESG and impact reporting\, emerging asset classes and structures\, and how to align capital allocation with climate\, nature and social outcomes while managing risk. \nWho Should Attend\nInstitutional investors\, asset managers\, family offices\, corporate sustainability and finance leaders\, development finance institutions\, foundations and advisors focused on sustainable and impact investment. \nAbout the Event\nImpact Investing World Forum 2026 is positioned as a leading sustainability and impact investing event in London on 27–28 April. It convenes institutional investors\, fund managers\, family offices and corporate sustainability executives to discuss ESG integration\, impact measurement and management frameworks\, nature-positive investment strategies and the role of blended finance in achieving the UN Sustainable Development Goals. \nEvent Details\nOrganiser: Impact Investing World Forum \nOrganiser website:\n\nhttps://impactinvestingconferences.com\n \nStart:\n\n2026-04-27\n \nEnd:\n\n2026-04-28\n \nEvent link:\n\nView event details
URL:https://sbs.eco/sustainable-events/impact-investing-world-forum-2026/
LOCATION:Kensington Conference and Event Centre\, London\, W8 7NX
CATEGORIES:ESG & Reporting,Finance & Investment,Nature & Biodiversity
ATTACH;FMTTYPE=image/png:https://sbs.eco/wp-content/uploads/2026/01/Impcat_investing-2026.png
END:VEVENT
END:VCALENDAR