BEGIN:VCALENDAR
VERSION:2.0
PRODID:-//Sustainable Business Services - ECPv6.15.20//NONSGML v1.0//EN
CALSCALE:GREGORIAN
METHOD:PUBLISH
X-WR-CALNAME:Sustainable Business Services
X-ORIGINAL-URL:https://sbs.eco
X-WR-CALDESC:Events for Sustainable Business Services
REFRESH-INTERVAL;VALUE=DURATION:PT1H
X-Robots-Tag:noindex
X-PUBLISHED-TTL:PT1H
BEGIN:VTIMEZONE
TZID:Europe/London
BEGIN:DAYLIGHT
TZOFFSETFROM:+0000
TZOFFSETTO:+0100
TZNAME:BST
DTSTART:20250330T010000
END:DAYLIGHT
BEGIN:STANDARD
TZOFFSETFROM:+0100
TZOFFSETTO:+0000
TZNAME:GMT
DTSTART:20251026T010000
END:STANDARD
BEGIN:DAYLIGHT
TZOFFSETFROM:+0000
TZOFFSETTO:+0100
TZNAME:BST
DTSTART:20260329T010000
END:DAYLIGHT
BEGIN:STANDARD
TZOFFSETFROM:+0100
TZOFFSETTO:+0000
TZNAME:GMT
DTSTART:20261025T010000
END:STANDARD
BEGIN:DAYLIGHT
TZOFFSETFROM:+0000
TZOFFSETTO:+0100
TZNAME:BST
DTSTART:20270328T010000
END:DAYLIGHT
BEGIN:STANDARD
TZOFFSETFROM:+0100
TZOFFSETTO:+0000
TZNAME:GMT
DTSTART:20271031T010000
END:STANDARD
END:VTIMEZONE
BEGIN:VEVENT
DTSTART;VALUE=DATE:20260427
DTEND;VALUE=DATE:20260430
DTSTAMP:20260423T181552
CREATED:20260120T092610Z
LAST-MODIFIED:20260120T092610Z
UID:10000343-1777248000-1777507199@sbs.eco
SUMMARY:FutureChain 2026
DESCRIPTION:Convenes leaders on supply chain resilience\, sustainability\, digital transformation. \nWhat You’ll Learn\nStrategies for resilient\, sustainable supply chains. \nWho Should Attend\nFMCG brands\, suppliers\, traders\, service providers. \nAbout the Event\nCase studies\, demos\, workshops on sourcing\, agriculture\, supply chain management. \nThe leading event for building resilient ingredient supply chains and future-proofing your business\nSecure the ingredients your business depends on – today and for the future. \nThis senior forum is designed for leaders responsible for ingredient and raw material security\, focused on practical\, peer-led strategies to build resilient supply chains in an increasingly volatile world. From managing immediate procurement risk and disruption to strengthening long-term supply through regenerative agriculture\, the event tackles resilience at every level. \nJoin 500 senior leaders from across food & beverage\, beauty\, pharmaceuticals and textiles\, and leave with practical insight\, peer-tested strategies and the connections needed to secure ingredient supply and protect your business. \nEvent Details\nOrganiser: Kisaco Research \nOrganiser website: FutureChain 2026 \n  \nStart:\n\n2026-04-28\n \nEnd:\n\n2026-04-30\n \nEvent link:\n\nView event details
URL:https://sbs.eco/sustainable-events/futurechain-2026/
LOCATION:London\, London\, United Kingdom
CATEGORIES:Nature & Biodiversity,Supply Chain & Scope 3
ATTACH;FMTTYPE=image/png:https://sbs.eco/wp-content/uploads/2026/01/Future_Chain_supply_chain_event-2026.png
END:VEVENT
END:VCALENDAR