BEGIN:VCALENDAR
VERSION:2.0
PRODID:-//Sustainable Business Services - ECPv6.15.20//NONSGML v1.0//EN
CALSCALE:GREGORIAN
METHOD:PUBLISH
X-ORIGINAL-URL:https://sbs.eco
X-WR-CALDESC:Events for Sustainable Business Services
REFRESH-INTERVAL;VALUE=DURATION:PT1H
X-Robots-Tag:noindex
X-PUBLISHED-TTL:PT1H
BEGIN:VTIMEZONE
TZID:UTC
BEGIN:STANDARD
TZOFFSETFROM:+0000
TZOFFSETTO:+0000
TZNAME:UTC
DTSTART:20240101T000000
END:STANDARD
END:VTIMEZONE
BEGIN:VEVENT
DTSTART;TZID=UTC:20251203T160000
DTEND;TZID=UTC:20251203T183000
DTSTAMP:20260424T013910
CREATED:20251201T092456Z
LAST-MODIFIED:20251201T092839Z
UID:10000279-1764777600-1764786600@sbs.eco
SUMMARY:Unlocking Net Zero Investment – London Bridge Event 2025
DESCRIPTION:Unlocking Net Zero Investment – London Bridge Event 2025\n\nHow can the UK unlock the scale of investment needed to meet Net Zero goals? The Unlocking Net Zero Investment event\, hosted by Team London Bridge\, brings together investors\, sustainability experts\, and business leaders to explore exactly that. \nHeld in the heart of London’s business district\, this event provides unique insights into funding Net Zero transitions\, scaling climate solutions\, and aligning investment with impact. If you’re working in sustainability\, finance\, or urban development—this is not one to miss. \n\nWhy Attend the Unlocking Net Zero Investment Event?\nDecarbonising the UK economy requires unprecedented investment. But where will that capital come from—and how can businesses and communities attract it? This event will explore: \n\n\nThe role of place-based strategies in attracting Net Zero investment \n\n\nPublic-private finance models that work \n\n\nWhat investors are really looking for in sustainability-focused projects \n\n\nHow local and national initiatives are mobilising capital for green infrastructure \n\n\nThrough panels\, presentations\, and networking\, you’ll gain practical insights on connecting ambition with funding. \n\nEvent Details – Join the Conversation in London Bridge\n\n\n📍 Location: Convene\, 22 Bishopsgate\, London\, EC2N 4BQ \n\n\n📅 Date: Wednesday 3 December 2024 \n\n\n⏰ Time: 4:00pm – 6:30pm GMT \n\n\n🎟️ Tickets: Free (with registration) \n\n\n🔗 Register here → \n\n\nThis event forms part of Team London Bridge’s ongoing commitment to helping the local business community become a more sustainable\, future-ready district. \n\nWhat You’ll Learn at the Net Zero Investment Event\nKey discussions will focus on: \n\n\nFinancing challenges and opportunities for Net Zero transformation \n\n\nInvestment trends and what they mean for UK SMEs \n\n\nMobilising capital at the local level \n\n\nThe power of partnerships to unlock funding and innovation \n\n\nCase studies and expert panels will highlight how UK cities and businesses are already attracting green investment—and what others can learn from them. \n\nWho Should Attend?\nThis event is relevant to: \n\n\nSME leaders and sustainability officers \n\n\nInvestors and financial institutions \n\n\nLocal authorities and urban planners \n\n\nDevelopers and infrastructure leads \n\n\nAnyone interested in climate finance and the green economy \n\n\nIt’s especially useful for those working at the intersection of business\, sustainability\, and finance\, seeking to scale impact through smart investment. \n\nInvest in a Greener Future\nThe Unlocking Net Zero Investment event is your opportunity to understand the finance behind the climate transition—and how to access it. With the right knowledge\, networks\, and partners\, we can accelerate investment into the UK’s low-carbon future. \n👉 Reserve your free place today:https://www.teamlondonbridge.co.uk/events/unlocking-net-zero-investment/
URL:https://sbs.eco/sustainable-events/unlocking-net-zero-investment-event/
LOCATION:22 Bishopsgate
ATTACH;FMTTYPE=image/png:https://sbs.eco/wp-content/uploads/2025/12/team_london.png
END:VEVENT
END:VCALENDAR