BEGIN:VCALENDAR
VERSION:2.0
PRODID:-//Sustainable Business Services - ECPv6.15.20//NONSGML v1.0//EN
CALSCALE:GREGORIAN
METHOD:PUBLISH
X-ORIGINAL-URL:https://sbs.eco
X-WR-CALDESC:Events for Sustainable Business Services
REFRESH-INTERVAL;VALUE=DURATION:PT1H
X-Robots-Tag:noindex
X-PUBLISHED-TTL:PT1H
BEGIN:VTIMEZONE
TZID:UTC
BEGIN:STANDARD
TZOFFSETFROM:+0000
TZOFFSETTO:+0000
TZNAME:UTC
DTSTART:20250101T000000
END:STANDARD
END:VTIMEZONE
BEGIN:VEVENT
DTSTART;VALUE=DATE:20260119
DTEND;VALUE=DATE:20260126
DTSTAMP:20260424T001613
CREATED:20260105T124010Z
LAST-MODIFIED:20260105T124010Z
UID:10000311-1768780800-1769385599@sbs.eco
SUMMARY:Energy Savers Week 2026
DESCRIPTION:Annual UK campaign to help households and businesses reduce energy use\, cut bills\, combat fuel poverty\, and lower emissions.\n  \n19/01/26 – 25/0126 \nTakeaways for UK Business\n\nLearn strategies to reduce operational energy costs and Scope 3 emissions in business facilities.\nAccess guidance on energy-efficient upgrades for compliance with UK net-zero targets.\nIdentify financial support and incentives for sustainable energy practices.\nGain insights into supplier switching and tariffs to optimize business energy spend.\nImplement employee awareness initiatives to drive workplace energy savings.\n\nWhat audience will benefit from this focus event\n\nSustainability managers seeking emission reduction tactics.\nFacilities and operations teams handling energy efficiency.\nESG and compliance officers tracking carbon reporting.\nFinance teams optimizing utility costs.\nSmall business owners tackling fuel poverty and net zero.\n\nEnergy Savers Week is a national awareness campaign run by the Energy Saving Trust and Citizens Advice. It provides practical advice on improving energy efficiency\, switching suppliers\, and accessing support to manage costs and reduce environmental impact. The event promotes simple changes like adjusting heating and using efficient lighting to contribute to net-zero goals. \n  \n 
URL:https://sbs.eco/sustainable-events/energy-savers-week/
LOCATION:Virtual
CATEGORIES:Campaign,Energy
ATTACH;FMTTYPE=image/jpeg:https://sbs.eco/wp-content/uploads/2025/08/energy_efficiency_.jpg
END:VEVENT
END:VCALENDAR