BEGIN:VCALENDAR
VERSION:2.0
PRODID:-//Sustainable Business Services - ECPv6.15.20//NONSGML v1.0//EN
CALSCALE:GREGORIAN
METHOD:PUBLISH
X-ORIGINAL-URL:https://sbs.eco
X-WR-CALDESC:Events for Sustainable Business Services
REFRESH-INTERVAL;VALUE=DURATION:PT1H
X-Robots-Tag:noindex
X-PUBLISHED-TTL:PT1H
BEGIN:VTIMEZONE
TZID:Europe/London
BEGIN:DAYLIGHT
TZOFFSETFROM:+0000
TZOFFSETTO:+0100
TZNAME:BST
DTSTART:20250330T010000
END:DAYLIGHT
BEGIN:STANDARD
TZOFFSETFROM:+0100
TZOFFSETTO:+0000
TZNAME:GMT
DTSTART:20251026T010000
END:STANDARD
BEGIN:DAYLIGHT
TZOFFSETFROM:+0000
TZOFFSETTO:+0100
TZNAME:BST
DTSTART:20260329T010000
END:DAYLIGHT
BEGIN:STANDARD
TZOFFSETFROM:+0100
TZOFFSETTO:+0000
TZNAME:GMT
DTSTART:20261025T010000
END:STANDARD
BEGIN:DAYLIGHT
TZOFFSETFROM:+0000
TZOFFSETTO:+0100
TZNAME:BST
DTSTART:20270328T010000
END:DAYLIGHT
BEGIN:STANDARD
TZOFFSETFROM:+0100
TZOFFSETTO:+0000
TZNAME:GMT
DTSTART:20271031T010000
END:STANDARD
END:VTIMEZONE
BEGIN:VTIMEZONE
TZID:UTC
BEGIN:STANDARD
TZOFFSETFROM:+0000
TZOFFSETTO:+0000
TZNAME:UTC
DTSTART:20240101T000000
END:STANDARD
END:VTIMEZONE
BEGIN:VEVENT
DTSTART;VALUE=DATE:20260324
DTEND;VALUE=DATE:20260325
DTSTAMP:20260423T212159
CREATED:20260115T075125Z
LAST-MODIFIED:20260115T075125Z
UID:10000332-1774310400-1774396799@sbs.eco
SUMMARY:Green Finance UK 2026
DESCRIPTION:A UK green finance conference in Leeds connecting capital with investment-ready opportunities in the transition economy. \nWhat You’ll Learn\nInsights into green investment trends\, financing models for clean energy\, cities and industry\, and how businesses can position projects and strategies to attract capital for net‑zero and circular economy initiatives. \nWho Should Attend\nInstitutional and private investors\, finance and strategy directors\, sustainability and net‑zero leaders\, project developers and innovators seeking investment. \nAbout the Event\nGreen Finance UK 2026 is a nationally focused conference series delivered by The Sustainability Community. The 2026 edition in Leeds features three content streams: a Clean Energy Stage exploring how capital can accelerate the energy transition\, a Future Cities & Transport Stage focused on sustainable urban development and low‑carbon mobility\, and an Advanced Manufacturing Stage covering industrial decarbonisation\, circular economy models and clean technologies. The event aims to connect investors with credible\, investment‑ready opportunities across the UK’s transition economy. \nEvent Details\nOrganiser: The Sustainability Community \nOrganiser website:\n\nhttps://www.thesustainabilitycommunity.com\n \nStart:\n\n2026-03-24 09:00 AM\n \nEnd:\n\n2026-03-24 05:30 PM\n \nEvent link:\n\nView event details
URL:https://sbs.eco/sustainable-events/green-finance-uk-2026-leeds/
LOCATION:Leeds (venue TBC)\, Leeds\, United Kingdom\, United Kingdom
CATEGORIES:Finance & Investment,Innovation & Tech,Net Zero & Climate
ATTACH;FMTTYPE=image/png:https://sbs.eco/wp-content/uploads/2026/01/output1-9.png
END:VEVENT
BEGIN:VEVENT
DTSTART;TZID=UTC:20251104T090000
DTEND;TZID=UTC:20251104T170000
DTSTAMP:20260423T212159
CREATED:20251030T080300Z
LAST-MODIFIED:20251030T080300Z
UID:10000261-1762246800-1762275600@sbs.eco
SUMMARY:The Clean Energy UK Conference 2025
DESCRIPTION:Join us in the heart of the North East for The Clean Energy UK Conference 2025\, in partnership with Net Zero North East England. The Event is a landmark gathering of national industry leaders\, innovators\, policymakers and investors dedicated to accelerating the UK’s clean energy transition. \nTaking place on Tuesday 4th November in Newcastle upon Tyne\, this high-impact one-day conference will explore the critical role of green energy\, skills and investment in driving the UK’s net zero economy. Whether you’re a clean energy entrepreneur\, a regional planner\, an investor\, or a major utility provider\, this event is designed to connect\, inform\, and energise the leaders shaping the future of UK energy. \n  \n\n\nThree Zones. One Goal: A Net Zero Nation\nThe Clean Energy Conference 2025 is structured around three powerful content streams: \nPower UP – The future of clean energy production\, storage and infrastructure From offshore wind and green hydrogen to grid modernisation and local energy systems\, explore the technologies and innovations powering the next generation of British energy. \nSkill UP – Building a workforce fit for a green future With demand for green jobs soaring\, this stage focuses on re-skilling\, apprenticeships\, and the education pathways needed to power a just energy transition. Hear from employers\, training providers\, and local authorities tackling the energy skills gap head-on. \nScale UP – Investment\, policy and place-based growth Discover how clean energy is driving regional regeneration\, attracting capital\, and unlocking inclusive economic growth. Hear from combined authorities\, national infrastructure banks\, and investors from the private sector on the funding models and public-private sector partnerships that are making it happen. \n\n\n\n\nWhy Attend?\n\nNetwork with 400+ cross-sector leaders from energy\, infrastructure\, skills and finance\nHear from over 60 speakers including government officials\, major industry players\, and disruptive clean energy startups\nAccess actionable insights to shape your strategy\, funding pipeline or workforce planning\nMeet potential partners\, investors and collaborators who are ready to move the dial on clean energy\nPut your region or organisation on the map as a key player in the UK’s net zero transition\n\nThis isn’t just another industry talk shop — we’ll be turning big ideas into genuine action.\n  \n\nWho Should Attend?\nThis event is for you if you: \n\nClean energy companies & suppliers\nGovernment departments & local authorities\nSkills providers\, colleges & universities\nInfrastructure investors & developers\nThink tanks\, trade bodies & regional cluster networks \nCorporate sustainability & net zero teams\n\nWhether you’re scaling a solution\, shaping a regional energy strategy\, or seeking investment for your clean energy projects\, The Clean Energy UK Conference 2025 is your must-attend event this autumn.
URL:https://sbs.eco/sustainable-events/clean-energy-uk-conference-2025/
LOCATION:Crown Plaza Newcastle\, Forth Street\, Newcastle upon Tyne\, NE1 3SA
CATEGORIES:Energy,Events
ATTACH;FMTTYPE=image/png:https://sbs.eco/wp-content/uploads/2025/10/Net_Zero_Northeast_Clean_Energy_UK_Conference.png
END:VEVENT
BEGIN:VEVENT
DTSTART;TZID=UTC:20250619T120000
DTEND;TZID=UTC:20250619T170000
DTSTAMP:20260423T212159
CREATED:20250602T182333Z
LAST-MODIFIED:20250602T182333Z
UID:10000218-1750334400-1750352400@sbs.eco
SUMMARY:Nature Recovery Conference
DESCRIPTION:The Nature Recovery Conference 2025 is the UK’s leading event dedicated to restoring biodiversity\, regenerating ecosystems\, and building a nature-positive future. As the climate and ecological emergencies demand bold\, united action\, this one-day\, in-person event brings together thought leaders\, businesses\, policymakers\, landowners\, and investors to accelerate nature recovery strategies across sectors. \n🌱 Why Attend? \n\n\nGain actionable insights from UK and global leaders in nature restoration \n\n\nExplore scalable solutions for biodiversity\, carbon sequestration\, and rewilding \n\n\nNetwork with cross-sector stakeholders committed to environmental regeneration \n\n\nDiscover funding pathways\, policy updates\, and private-public collaboration models \n\n\n🔍 Themes Include: \n\n\nNature markets & green finance \n\n\nLocal authority leadership in land use \n\n\nNature-based solutions for climate and people \n\n\nScaling up rewilding and regenerative agriculture \n\n\nInclusive recovery for people and planet \n\n\n🎤 Hosted by: The Sustainability Community📢 For changemakers\, decision-makers\, and anyone leading the charge toward a nature-positive UK. \n🔗 Full agenda and registration here \n📢 Use hashtags: #NatureRecovery #BiodiversityUK #GreenRecovery #NaturePositive
URL:https://sbs.eco/sustainable-events/nature-recovery-conference/
LOCATION:Meanwood Valley Urban Farm\, Sugar Well Road\, Meanwood\, Leeds\, LS7 2QG
CATEGORIES:Events,Nature
ATTACH;FMTTYPE=image/png:https://sbs.eco/wp-content/uploads/2025/06/nature-recovery.png
END:VEVENT
BEGIN:VEVENT
DTSTART;TZID=UTC:20250618T080000
DTEND;TZID=UTC:20250619T170000
DTSTAMP:20260423T212159
CREATED:20250602T181827Z
LAST-MODIFIED:20250602T181827Z
UID:10000217-1750233600-1750352400@sbs.eco
SUMMARY:ReGeneration Earth UK Conference 2025
DESCRIPTION:ReGeneration Earth is not just another conference; it’s a movement.\nThe world is at a truly profound turning point in history. The challenges facing humanity and our planet – from biodiversity loss\, climate change\, environmental and social degradation – are reaching truly critical levels. \nThe challenges we’re facing require innovative and creative solutions. We need to regenerate: \nOur Environment: The UK has been highlighted as having some of the lowest biodiversity in the western world\, with only 50% of our biodiversity ecosystem left intact. We must actively restore and renew nature\, re-establishing the health and vitality of our ecosystems\, for people and the planet. \nOur Society: The UK is suffering the worst decline in living standards of any G7 Country and over the last 14 years\, the gap between rich and poor in the UK has returned to Victorian levels. We need to revitalise our communities\, prioritising equity and human connection\, shifting our society from a mindset of individualistic extraction to community based regeneration. \nOur Economy: The UK economy has been in decline for at least 15 years\, and is now the most unequal major economy in Europe\, with declining productivity and investment\, caused by political uncertainty and lack of a coherent economic strategy. We must create a long term plan to adapt our economic systems and practices away from extraction towards circularity\, actively repairing and supporting equitable growth. \n\n\n\n\nWe created the challenges we face today\, which means we have the opportunity to build a better world of tomorrow. \nWe have the opportunity to Reset\, Reshape\, Regenerate. Welcome to ReGeneration Earth 2025! \nWe’re bringing all the regions under one roof to drive forward the green economy. \nWe’re bringing together visionaries\, policymakers\, entrepreneurs\, investors\, corporate leaders and environmental advocates who are committed to fundamentally changing the way the UK’s economy operates. \nWe are putting a thriving sustainable community at the heart of the society we’re creating. \nWith three main stages\, interactive pavilions\, and focused zones\, the event offers a platform for you to dive into critical themes\, share knowledge\, and co-create pathways toward a regenerative future. \nWhy Attend?\nRe:Generation Earth 2025 brings together three crucial and diverse themes—environmental\, social\, and economic regeneration—under one roof. Our attendees explore interconnected issues like sustainable economies\, climate justice\, regenerative finance\, and technological innovation all in one place. \nThe event creates a national platform that addresses universal challenges while also incorporating local action\, showcasing regional regeneration initiatives that have been successful in local contexts\, so that regions learn from each other and drive forward change at pace\, building an interconnected global sustainability network\, region by region. \nThe event integrates immersive\, practical solutions like live demos\, lightening talks and deep dive workshops where attendees can actively co-create solutions for regeneration in their regions. \nCross-sector collaboration is key at Re:Generation Earth 2025\, with specialist networking zones that help you to foster relationships not just within industries but across sectors—bridging the gap between tech\, policy\, business\, and community leaders. \nAt the heart of our event is regenerative governance\, with discussions on how to integrate regenerative policies across sectors. Highlighting policy innovation\, eco-centric governance\, and cross-sector collaboration for regenerative development creates a platform for policymakers and advocacy groups to actively co-create solutions. \nWe passionately promote intergenerational collaboration by bringing together young people\, entrepreneurs\, corporate leaders\, and policymakers to showcase how different generations can contribute to regenerative practices\, offering a platform for knowledge transfer and multigenerational collaboration.
URL:https://sbs.eco/sustainable-events/regeneration-earth-uk-conference-2025/
LOCATION:The Royal Armouries\, Leeds
CATEGORIES:ESG,Events
ATTACH;FMTTYPE=image/png:https://sbs.eco/wp-content/uploads/2025/06/ReGeon_Earth.png
END:VEVENT
END:VCALENDAR