BEGIN:VCALENDAR
VERSION:2.0
PRODID:-//Sustainable Business Services - ECPv6.15.20//NONSGML v1.0//EN
CALSCALE:GREGORIAN
METHOD:PUBLISH
X-ORIGINAL-URL:https://sbs.eco
X-WR-CALDESC:Events for Sustainable Business Services
REFRESH-INTERVAL;VALUE=DURATION:PT1H
X-Robots-Tag:noindex
X-PUBLISHED-TTL:PT1H
BEGIN:VTIMEZONE
TZID:Europe/London
BEGIN:DAYLIGHT
TZOFFSETFROM:+0000
TZOFFSETTO:+0100
TZNAME:BST
DTSTART:20250330T010000
END:DAYLIGHT
BEGIN:STANDARD
TZOFFSETFROM:+0100
TZOFFSETTO:+0000
TZNAME:GMT
DTSTART:20251026T010000
END:STANDARD
BEGIN:DAYLIGHT
TZOFFSETFROM:+0000
TZOFFSETTO:+0100
TZNAME:BST
DTSTART:20260329T010000
END:DAYLIGHT
BEGIN:STANDARD
TZOFFSETFROM:+0100
TZOFFSETTO:+0000
TZNAME:GMT
DTSTART:20261025T010000
END:STANDARD
BEGIN:DAYLIGHT
TZOFFSETFROM:+0000
TZOFFSETTO:+0100
TZNAME:BST
DTSTART:20270328T010000
END:DAYLIGHT
BEGIN:STANDARD
TZOFFSETFROM:+0100
TZOFFSETTO:+0000
TZNAME:GMT
DTSTART:20271031T010000
END:STANDARD
END:VTIMEZONE
BEGIN:VEVENT
DTSTART;VALUE=DATE:20260316
DTEND;VALUE=DATE:20260323
DTSTAMP:20260424T001704
CREATED:20260120T080030Z
LAST-MODIFIED:20260120T080030Z
UID:10000350-1773619200-1774223999@sbs.eco
SUMMARY:Trees Are The Key Awareness Week
DESCRIPTION:Annual awareness week highlighting health benefits of trees and tree planting to combat climate change\, encompassing International Day of Forests (21 March)\, run by The Word Forest Organisation. \nWhat You’ll Learn\nEngage in tree planting for carbon sequestration and biodiversity; partner with charities for nature-based climate solutions; support community-led reforestation in supply chains. \nWho Should Attend\nCSR managers\, sustainability officers\, environmental NGOs\, corporate tree-planting partners\, community groups focused on climate action. \nAbout the Event\nTrees Are The Key Awareness Week is an annual initiative by The Word Forest Organisation\, a UK-registered charity. It raises awareness of trees’ health benefits and their role in tackling climate change through rapid planting in the tropics. The week encompasses the UN International Day of Forests on 21 March. The organisation plants fast-growing trees in Kenya\, builds classrooms\, facilitates education on environmental topics like permaculture and agroforestry\, and empowers women through groups like Mothers of The Forest. These efforts support biodiversity\, clean air\, soil health\, and community resilience. They also plant trees in the UK and promote holistic environmental action linking tree planting with humanitarian support. \nEvent Details\nOrganiser: The Word Forest Organisation \nOrganiser website:\n\n \nHome \n\n \nStart:\n\n2026-03-16\n \nEnd:\n\n2026-03-22\n \nEvent link:\n\nView event details
URL:https://sbs.eco/sustainable-events/trees-are-the-key-awareness-week/
LOCATION:Global\, Global
CATEGORIES:Nature & Biodiversity
ATTACH;FMTTYPE=image/jpeg:https://sbs.eco/wp-content/uploads/2026/01/Weeding-seedlings-at-community-tree-nursery.jpg
END:VEVENT
END:VCALENDAR