BEGIN:VCALENDAR
VERSION:2.0
PRODID:-//Sustainable Business Services - ECPv6.15.20//NONSGML v1.0//EN
CALSCALE:GREGORIAN
METHOD:PUBLISH
X-WR-CALNAME:Sustainable Business Services
X-ORIGINAL-URL:https://sbs.eco
X-WR-CALDESC:Events for Sustainable Business Services
REFRESH-INTERVAL;VALUE=DURATION:PT1H
X-Robots-Tag:noindex
X-PUBLISHED-TTL:PT1H
BEGIN:VTIMEZONE
TZID:UTC
BEGIN:STANDARD
TZOFFSETFROM:+0000
TZOFFSETTO:+0000
TZNAME:UTC
DTSTART:20240101T000000
END:STANDARD
END:VTIMEZONE
BEGIN:VEVENT
DTSTART;TZID=UTC:20251211T090000
DTEND;TZID=UTC:20251211T110000
DTSTAMP:20260424T015943
CREATED:20251030T103124Z
LAST-MODIFIED:20251030T103124Z
UID:10000266-1765443600-1765450800@sbs.eco
SUMMARY:B Local North East Beach Clean & Meet Up
DESCRIPTION:Overview\n\n\n\n\n\nBeach clean & catch-up: join us 9am at Crusoes Café for coffee\, conversation & giving back on Longsands before year-end.\n\n\n\nBefore the year wraps up\, let’s come together for a morning of fresh air\, friendly faces\, and positive action. \nWe’ll meet at Crusoes Beach Café at 9am to grab a hot drink and a catch-up\, then head onto Longsands for a beach clean. It’s a chance to blow away the cobwebs\, give something back to the place we love\, and enjoy the magic of the North Sea in December. \nThis isn’t a formal meeting – just a relaxed get-together with a purpose. A chance to take a break from the office and enjoy some good conversation\, a bit of exercise\, and that feel-good buzz you get from making a difference. \nWhy come along?\n🌍 Do something simple but powerful for our coastline\n🤝 Connect with like-minded people who care about people and planet\n💙 Live the B Corp spirit of using business as a force for good\n✨ End the year on a high with fresh energy and community vibes \nWhether you’re part of the B Corp community\, curious to learn more\, or just want to join in\, everyone’s welcome. \nWhat to bring: \n\nWarm clothes and a waterproof (it is December!)\nGloves if you have them\nA smile and a bit of community spirit\n\nWe’ll bring bags and litter pickers. \nAbout B Local North East\nB Local North East is the regional voice of the global B Corp movement\, supporting businesses who believe in balancing profit with purpose. We host regular events to connect\, learn\, and collaborate – helping our region become a leader in responsible business. \n👉 This event is free\, but please register so we know you’re joining.
URL:https://sbs.eco/sustainable-events/north-east-beach-clean-event/
LOCATION:Longlands Beach
ATTACH;FMTTYPE=image/png:https://sbs.eco/wp-content/uploads/2025/10/B_Local_Northeast_Beachclean.png
END:VEVENT
END:VCALENDAR