BEGIN:VCALENDAR
VERSION:2.0
PRODID:-//Sustainable Business Services - ECPv6.15.20//NONSGML v1.0//EN
CALSCALE:GREGORIAN
METHOD:PUBLISH
X-WR-CALNAME:Sustainable Business Services
X-ORIGINAL-URL:https://sbs.eco
X-WR-CALDESC:Events for Sustainable Business Services
REFRESH-INTERVAL;VALUE=DURATION:PT1H
X-Robots-Tag:noindex
X-PUBLISHED-TTL:PT1H
BEGIN:VTIMEZONE
TZID:UTC
BEGIN:STANDARD
TZOFFSETFROM:+0000
TZOFFSETTO:+0000
TZNAME:UTC
DTSTART:20240101T000000
END:STANDARD
END:VTIMEZONE
BEGIN:VEVENT
DTSTART;TZID=UTC:20250716T160000
DTEND;TZID=UTC:20250716T190000
DTSTAMP:20260424T122417
CREATED:20250630T160917Z
LAST-MODIFIED:20250630T161023Z
UID:10000228-1752681600-1752692400@sbs.eco
SUMMARY:Shine Roadshow - Sunderland
DESCRIPTION:Join SHINE\, the North East’s new employer accreditation programme\, backed by North East Mayor Kim McGuinness! We’re hitting the road this July\, helping businesses like yours create more fulfilling\, fair\, and sustainable workplaces. \nSustainable Business Services are a Proud SHINE Accredited Business \nWhy join the FREE SHINE Roadshow? \n\nAttract & keep great talent: Strengthen your employer appeal.\nShow you care: Demonstrate commitment to fair pay\, skills & sustainable growth.\nGet recognised: Receive tools\, support & recognition for building a better business.\n\nMeet the Experts & Leaders Near You:  \nThese free in-person events offer a unique chance to learn\, network\, and take the first step towards recognition: \n\n🤝 July 2\, UMi Durham: Nicki Clark OBE on employee engagement\, communication & trust.\n❤️ July 3\, Gateshead College: Ivan Jepson\, Director of Business Development & Innovation\, and Lori Casson\, Head of People\, on employee wellbeing\, morale & inclusion.\n🌟 July 8 – Lola Jeans\, North Shields: North East Mayor Kim McGuinness on vision for a stronger economy & quality jobs.\n⚖️ July 9\, Ward Hadaway\, Newcastle: Jamie Gamble on legal frameworks & leadership for employee wellbeing.\n⚓ July 10\, Blyth Tall Ship\, Northumberland: Blyth Tall Ship on supporting local initiatives & how building partnerships can boost your brand & employee morale.\n🧘‍♀️ July 14\, Orbit\, Durham: Bethany Ainsley (OptiMe) on workplace wellbeing strategies.\n💡 July 15\, Alnwick Playhouse\, Northumberland: Tracey Elvin (NECA) on work-life balance & Sam Spoors (Talentheads) on job security.\n🌍 July 16\, City Hall\, Sunderland: Guest speaker on embedding sustainability & social impact.\n\nWhether you’re leading the way or just starting\, SHINE is your opportunity to stand out! \nFind your nearest event & book your FREE ticket today!
URL:https://sbs.eco/sustainable-events/shine-roadshow-sunderland/
LOCATION:City Hall Sunderland\, Plater Way\, Sunderland\, SR1 3AA
CATEGORIES:Business for Good,ESG
ATTACH;FMTTYPE=image/png:https://sbs.eco/wp-content/uploads/2025/06/SHINE_Roadshows.png
END:VEVENT
END:VCALENDAR