BEGIN:VCALENDAR
VERSION:2.0
PRODID:-//Sustainable Business Services - ECPv6.15.20//NONSGML v1.0//EN
CALSCALE:GREGORIAN
METHOD:PUBLISH
X-ORIGINAL-URL:https://sbs.eco
X-WR-CALDESC:Events for Sustainable Business Services
REFRESH-INTERVAL;VALUE=DURATION:PT1H
X-Robots-Tag:noindex
X-PUBLISHED-TTL:PT1H
BEGIN:VTIMEZONE
TZID:UTC
BEGIN:STANDARD
TZOFFSETFROM:+0000
TZOFFSETTO:+0000
TZNAME:UTC
DTSTART:20250101T000000
END:STANDARD
END:VTIMEZONE
BEGIN:VTIMEZONE
TZID:Europe/London
BEGIN:DAYLIGHT
TZOFFSETFROM:+0000
TZOFFSETTO:+0100
TZNAME:BST
DTSTART:20250330T010000
END:DAYLIGHT
BEGIN:STANDARD
TZOFFSETFROM:+0100
TZOFFSETTO:+0000
TZNAME:GMT
DTSTART:20251026T010000
END:STANDARD
BEGIN:DAYLIGHT
TZOFFSETFROM:+0000
TZOFFSETTO:+0100
TZNAME:BST
DTSTART:20260329T010000
END:DAYLIGHT
BEGIN:STANDARD
TZOFFSETFROM:+0100
TZOFFSETTO:+0000
TZNAME:GMT
DTSTART:20261025T010000
END:STANDARD
BEGIN:DAYLIGHT
TZOFFSETFROM:+0000
TZOFFSETTO:+0100
TZNAME:BST
DTSTART:20270328T010000
END:DAYLIGHT
BEGIN:STANDARD
TZOFFSETFROM:+0100
TZOFFSETTO:+0000
TZNAME:GMT
DTSTART:20271031T010000
END:STANDARD
END:VTIMEZONE
BEGIN:VEVENT
DTSTART;TZID=UTC:20260309T100000
DTEND;TZID=UTC:20260309T123000
DTSTAMP:20260423T225239
CREATED:20260226T130958Z
LAST-MODIFIED:20260226T130958Z
UID:10000403-1773050400-1773059400@sbs.eco
SUMMARY:Meaningful Business: Insights into Social Value Creation and Delivery
DESCRIPTION:York GuildhallYork\, England \nMonday\, Mar 9\, 2026 from 10 am to 12:30 pm\n\n\n\nOverview\n\n\n\n\nEveryone’s talking about social value. Far fewer people are clear on what it actually means – or how to do it well. \n\n\n\n\nSocial value is no longer something organisations can afford to ignore. It’s shaping how organisations grow\, win work\, build partnerships and support their communities. But for many businesses and organisations\, it can still feel vague\, confusing or overly complicated. \nThis free Meaningful Business event is about cutting through the noise and having an honest\, practical conversation about social value – what it is\, why it matters and how it can work in the real world. \nIf you’re a business owner\, part of an SME\, social enterprise\, public sector organisation or community group in York and North Yorkshire – and you care about doing business in a way that creates genuine impact – this session is for you. \nWhat this session is about\nThis is a practical\, conversational event focused on real-world social value. \nYou can expect: \n· Short expert talks \n· An interactive workshop \n· Open discussion and shared learning \n· Time to connect with others working on social value locally \nWhat you’ll learn\n· What social value is and why it matters right now \n· How social value can be co-produced across sectors \n· How to think about social value at strategic\, organisational and community levels \n· How businesses can work with public sector partners to create long-term impact \n· Practical ideas you can take away and apply \nSpeakers\n· Dr Madeline Powell\, University of York – Interactive workshop on co-production and social value \n· Sam Leach\, Co-founder of Spark & Chair of the Community Wealth Building Committee \n· Dr Adrian Madden & Dr Alex Alterskye\, The Meaningful Business Network \nWho should come along?\n· Local businesses and SMEs \n· Social enterprises and community organisations \n· Public sector partners \n· Members of the Meaningful Business Network \n· Anyone interested in social value\, impact and purpose-led business \nBook your free place\nThis is a free event\, but places are limited\, please ensure you only sign up if you can attend and if reserved\, please release your place if you cannot attend \nIf you’re interested in social value and want to be part of a practical\, thoughtful conversation about how it works in the real world\, we’d love to see you there. \nMeaningful Business Network\nFind out how you can get involved with the growing Meaningful Business Network\, and help shape its next chapter. Information will be kept in line with the University’s data protection policies: https://www.york.ac.uk/enterprise-works/privacy-notice/
URL:https://sbs.eco/sustainable-events/meaningful-business-insights-into-social-value-creation-and-delivery/
LOCATION:York Guildhall\, Coney Street\, York\, YO1 9QL
CATEGORIES:Business for Good,Education
ATTACH;FMTTYPE=image/png:https://sbs.eco/wp-content/uploads/2026/02/meaningful_business_university-of-york-260226.png
END:VEVENT
BEGIN:VEVENT
DTSTART;VALUE=DATE:20260316
DTEND;VALUE=DATE:20260328
DTSTAMP:20260423T225240
CREATED:20260309T160202Z
LAST-MODIFIED:20260309T160202Z
UID:10000414-1773619200-1774655999@sbs.eco
SUMMARY:Big Walk and Wheel 2026
DESCRIPTION:Participate in the UK’s largest inter-school active travel challenge from 16–27 March 2026. \nWhat You’ll Learn\nSchools can utilize free curriculum-aligned resources to integrate active travel and sustainability into daily operations\, fostering community engagement and environmental impact reduction. \nWho Should Attend\nThis event is ideal for primary and secondary schools across the UK\, including school staff\, pupils\, parents\, and families\, especially those focused on promoting active travel and reducing environmental impact. \nAbout the Event\nBig Walk and Wheel 2026 is the UK’s largest inter-school walking\, wheeling\, scooting and cycling challenge\, now in its 17th year and delivered by Walk Wheel Cycle Trust. Running from 16–27 March 2026\, this challenge inspires pupils and staff to make active journeys to school\, improving air quality in neighborhoods and promoting sustainable travel habits. Open to all UK schools including SEN/ALN/ASN schools\, the challenge is free to join with schools competing to record the highest percentage of pupils using active travel. Daily prizes are awarded to schools with significant participation. The challenge includes curriculum-linked lesson plans\, assembly presentations\, and resources to engage the community in active travel. \nEvent Details\nOrganiser: Walk Wheel Cycle Trust \nOrganiser website:\n\nhttps://www.walkwheelcycletrust.org.uk/\n \nStart:\n\n2026-03-16\n \nEnd:\n\n2026-03-27\n \nEvent link:\n\nView event details
URL:https://sbs.eco/sustainable-events/big-walk-wheel-2026/
LOCATION:United Kingdom (multiple community locations)\, United Kingdom
CATEGORIES:Education,Net Zero & Climate,Skills & Workforce
ATTACH;FMTTYPE=image/png:https://sbs.eco/wp-content/uploads/2026/03/BWAW-26-Social-Media-Asset-1-logo.png
END:VEVENT
END:VCALENDAR