BEGIN:VCALENDAR
VERSION:2.0
PRODID:-//Sustainable Business Services - ECPv6.15.20//NONSGML v1.0//EN
CALSCALE:GREGORIAN
METHOD:PUBLISH
X-WR-CALNAME:Sustainable Business Services
X-ORIGINAL-URL:https://sbs.eco
X-WR-CALDESC:Events for Sustainable Business Services
REFRESH-INTERVAL;VALUE=DURATION:PT1H
X-Robots-Tag:noindex
X-PUBLISHED-TTL:PT1H
BEGIN:VTIMEZONE
TZID:UTC
BEGIN:STANDARD
TZOFFSETFROM:+0000
TZOFFSETTO:+0000
TZNAME:UTC
DTSTART:20240101T000000
END:STANDARD
END:VTIMEZONE
BEGIN:VEVENT
DTSTART;TZID=UTC:20250927T080000
DTEND;TZID=UTC:20251102T170000
DTSTAMP:20260424T031530
CREATED:20250806T072121Z
LAST-MODIFIED:20250806T072121Z
UID:10000243-1758960000-1762102800@sbs.eco
SUMMARY:York Environment Festival (YEFest)
DESCRIPTION:York Environment Festival (YEFest) is organised by York Environment Forum (YEF)\, the voice for the environment in York. Encompassing the natural and built environment\, the Forum is a collection of local organisations striving to make York a more beautiful\, sustainable place to live for all of its residents. \nLearn more about York Environment Forum \nThis year’s York Environment Festival (YEFest) has opened its call for events. Following our biggest programme yet in 2024 the annual city-wide festival is back\, running from Saturday 27th September – Sunday 2nd November. We’re inviting proposals for a wide range of events celebrating and standing up for the environment. \nYEFest is a chance to showcase the brilliant work being done by local environmental groups\, campaigners\, businesses\, universities\, schools\, arts organisations – and more! All events in the festival will be open and free to attend\, offering York residents a chance to get involved and find out more about how they can champion their local environment.
URL:https://sbs.eco/sustainable-events/york-environment-festival-yefest/
LOCATION:York\, TBC
CATEGORIES:Environment,Events
ATTACH;FMTTYPE=image/png:https://sbs.eco/wp-content/uploads/2025/08/York_Env_Fest_25.png
END:VEVENT
END:VCALENDAR