BEGIN:VCALENDAR
VERSION:2.0
PRODID:-//Sustainable Business Services - ECPv6.15.20//NONSGML v1.0//EN
CALSCALE:GREGORIAN
METHOD:PUBLISH
X-WR-CALNAME:Sustainable Business Services
X-ORIGINAL-URL:https://sbs.eco
X-WR-CALDESC:Events for Sustainable Business Services
REFRESH-INTERVAL;VALUE=DURATION:PT1H
X-Robots-Tag:noindex
X-PUBLISHED-TTL:PT1H
BEGIN:VTIMEZONE
TZID:UTC
BEGIN:STANDARD
TZOFFSETFROM:+0000
TZOFFSETTO:+0000
TZNAME:UTC
DTSTART:20250101T000000
END:STANDARD
END:VTIMEZONE
BEGIN:VTIMEZONE
TZID:Europe/London
BEGIN:DAYLIGHT
TZOFFSETFROM:+0000
TZOFFSETTO:+0100
TZNAME:BST
DTSTART:20250330T010000
END:DAYLIGHT
BEGIN:STANDARD
TZOFFSETFROM:+0100
TZOFFSETTO:+0000
TZNAME:GMT
DTSTART:20251026T010000
END:STANDARD
BEGIN:DAYLIGHT
TZOFFSETFROM:+0000
TZOFFSETTO:+0100
TZNAME:BST
DTSTART:20260329T010000
END:DAYLIGHT
BEGIN:STANDARD
TZOFFSETFROM:+0100
TZOFFSETTO:+0000
TZNAME:GMT
DTSTART:20261025T010000
END:STANDARD
BEGIN:DAYLIGHT
TZOFFSETFROM:+0000
TZOFFSETTO:+0100
TZNAME:BST
DTSTART:20270328T010000
END:DAYLIGHT
BEGIN:STANDARD
TZOFFSETFROM:+0100
TZOFFSETTO:+0000
TZNAME:GMT
DTSTART:20271031T010000
END:STANDARD
END:VTIMEZONE
BEGIN:VEVENT
DTSTART;TZID=UTC:20260423T090000
DTEND;TZID=UTC:20260423T170000
DTSTAMP:20260424T072614
CREATED:20260331T165159Z
LAST-MODIFIED:20260331T165159Z
UID:10000435-1776934800-1776963600@sbs.eco
SUMMARY:Sustainability Summit 2026
DESCRIPTION:Overview\n\n\n\n\nFootwear Sustainability Summit: translating regulation into real business action. \n\n\n\n\nBFA Members enjoy significantly reduced ticket prices. If you are a current member and do not have your unique discount code\, please email events@britishfootwearassociation.co.uk \n– \nMove from intention to implementation. Regulation\, compliance\, circularity and consumer trust – what footwear businesses must prioritise now. \nFollowing consecutive sold-out events\, the Sustainability Summit returns in 2026 with a focused\, action-led agenda. \nAs legislation accelerates and expectations increase across supply chains\, data transparency\, durability and green claims\, the 2026 programme translates regulatory change into clear business priorities. It addresses operational and financial realities\, sharing practical case insights from brands\, manufacturers and technical experts across the sector. \nBringing together senior decision-makers across sustainability\, compliance\, technical\, operations and leadership functions\, the event provides clarity on immediate priorities and the actions required next. \nArrivals\, Networking & Exhibitions: 09:00–10:00\nSummit Programme: 10:00–16:00 \nWhat’s Included with Your Ticket: \n\nFull access to the Sustainability Summit\, including expert-led talks and discussions\nAccess to exhibitors showcasing innovative business solutions and materials\nNetworking breaks with coffee\, tea\, and snacks\nA networking lunch\nDigital access to session recordings and presentations after the event\n\nNow in its 4th year\, the Sustainability Summit continues to bring together a diverse range of speakers and attendees from across the industry. Previous events have featured representatives from companies such as Vivobarefoot\, ECCO\, Nike\, Dr. Martens\, River Island\, Deichmann\, Centric Software\, B-Corp\, British Pasture Leather\, FDRA\, Eurofins\, Fairfax & Favor\, the Boot Repair Company\, Purified Footwear\, schuh\, De Montfort University and many more. \nWhat People Are Saying:\n“The sessions were insightful and practical. I left with ideas I could immediately put into action.” \n“There were so many exceptional and inspirational speakers. The quality was very high.” \nTickets are limited due to the interactive nature of the event and sell out every year. If you work in footwear or sustainability\, this is an event not to be missed.
URL:https://sbs.eco/sustainable-events/sustainability-summit-2026/
LOCATION:MTC – Manufacturing Technology Centre\, Pilot Way\, Coventry\, CV7 9JU
CATEGORIES:Events,Expo,Supply Chain & Scope 3,Sustainability
ATTACH;FMTTYPE=image/png:https://sbs.eco/wp-content/uploads/2026/03/Footwear-Association-Sustainbability-SUmmit-.png
END:VEVENT
BEGIN:VEVENT
DTSTART;VALUE=DATE:20260318
DTEND;VALUE=DATE:20260320
DTSTAMP:20260424T072614
CREATED:20260120T080633Z
LAST-MODIFIED:20260120T080633Z
UID:10000348-1773792000-1773964799@sbs.eco
SUMMARY:Sustainable Supply Chain Exhibition (SSCE2026)
DESCRIPTION:Brings logistics\, supply chain\, sustainability professionals for sustainable practices. \nWhat You’ll Learn\nInnovative solutions\, partnerships for supply chain sustainability. \nWho Should Attend\nLogistics\, supply chain\, sustainability professionals. \nAbout the Event\n350+ exhibitors\, 60+ sessions\, co-located with IntraLogisteX\, advance Net Zero\, ESG strategies. \n\nThe Sustainable Supply Chain Exhibition is joining IntraLogisteX and Robotics & Automation at the NEC Birmingham! \n\n\nAs environmental issues become more important to consumer and business brand owners across all sectors\, there is growing demand for supply chains to adopt sustainable practices\, become NetZero\, and adopt effective ESG strategies. The Sustainable Supply Chain Exhibition will offer a focused environment for logistics\, supply chain\, and sustainability professionals to share ideas\, offer solutions\, and help each other on their sustainable journeys. \n\nEvent Details\nOrganiser: \nOrganiser website: \n  \nStart:\n\n2026-03-18\n \nEnd:\n\n2026-03-19\n \nEvent link:\n\nView event details
URL:https://sbs.eco/sustainable-events/sustainable-supply-chain-exhibition-2026/
LOCATION:NEC Birmingham\, NEC Campus\, Halls 4\, 6-12\, 17-20\, Birmingham\, England\, Birmingham\, B40 1NT\, UK
CATEGORIES:Expo,Supply Chain & Scope 3
ATTACH;FMTTYPE=image/png:https://sbs.eco/wp-content/uploads/2026/01/sustainable-supply_chain_exhibition.png
END:VEVENT
END:VCALENDAR