BEGIN:VCALENDAR
VERSION:2.0
PRODID:-//Sustainable Business Services - ECPv6.15.20//NONSGML v1.0//EN
CALSCALE:GREGORIAN
METHOD:PUBLISH
X-WR-CALNAME:Sustainable Business Services
X-ORIGINAL-URL:https://sbs.eco
X-WR-CALDESC:Events for Sustainable Business Services
REFRESH-INTERVAL;VALUE=DURATION:PT1H
X-Robots-Tag:noindex
X-PUBLISHED-TTL:PT1H
BEGIN:VTIMEZONE
TZID:Europe/London
BEGIN:DAYLIGHT
TZOFFSETFROM:+0000
TZOFFSETTO:+0100
TZNAME:BST
DTSTART:20250330T010000
END:DAYLIGHT
BEGIN:STANDARD
TZOFFSETFROM:+0100
TZOFFSETTO:+0000
TZNAME:GMT
DTSTART:20251026T010000
END:STANDARD
BEGIN:DAYLIGHT
TZOFFSETFROM:+0000
TZOFFSETTO:+0100
TZNAME:BST
DTSTART:20260329T010000
END:DAYLIGHT
BEGIN:STANDARD
TZOFFSETFROM:+0100
TZOFFSETTO:+0000
TZNAME:GMT
DTSTART:20261025T010000
END:STANDARD
BEGIN:DAYLIGHT
TZOFFSETFROM:+0000
TZOFFSETTO:+0100
TZNAME:BST
DTSTART:20270328T010000
END:DAYLIGHT
BEGIN:STANDARD
TZOFFSETFROM:+0100
TZOFFSETTO:+0000
TZNAME:GMT
DTSTART:20271031T010000
END:STANDARD
END:VTIMEZONE
BEGIN:VEVENT
DTSTART;VALUE=DATE:20260302
DTEND;VALUE=DATE:20260305
DTSTAMP:20260423T195407
CREATED:20260208T152554Z
LAST-MODIFIED:20260208T152554Z
UID:10000382-1772409600-1772668799@sbs.eco
SUMMARY:Carbon Capture and Biodiversity Summit – Economist Impact Sustainability Week 2026
DESCRIPTION:Join leaders in sustainability at the Carbon Capture and Biodiversity Summit during Economist Impact Sustainability Week 2026 to explore innovative solutions for net zero. \nWhat You’ll Learn\nDiscover scalable strategies for carbon capture and biodiversity; network with sustainability leaders; understand cutting-edge applications of AI and supply chain management for emissions reduction; obtain impactful tools for improving sustainability outcomes. \nWho Should Attend\nChief Sustainability Officers\, energy professionals\, corporate sustainability leaders\, tech innovators\, policymakers\, investors focused on green solutions\, and supply chain directors. \nAbout the Event\nEconomist Impact Sustainability Week 2026 will gather business leaders\, policymakers\, and sustainability professionals in London from 2–4 March. Focused summits on Carbon Capture and Biodiversity will provide attendees with practical strategies for driving sustainable profitability. \nSessions will delve into emerging technologies\, supply chain decarbonisation\, and effective waste management solutions. The CSO Leaders Club will facilitate peer-to-peer collaboration and knowledge sharing among senior sustainability officers. \nParticipants will gain insights on implementing sustainability innovations in their organisations\, enhancing their capabilities in AI applications\, carbon emissions reduction\, and setting a course for attaining net zero targets. \nEvent Details\nOrganiser: Economist Impact \nOrganiser website:\n\nhttps://www.economist.com/\n \nStart:\n\n2026-03-02\n \nEnd:\n\n2026-03-04\n \nEvent link:\n\nView event details
URL:https://sbs.eco/sustainable-events/economist-impact-sustainability-week-2026/
LOCATION:InterContinental London – The O2\, 1 Waterview Dr\, London SE10 0TW\, UK
CATEGORIES:Innovation & Tech,Net Zero & Climate,Supply Chain & Scope 3
ATTACH;FMTTYPE=image/jpeg:https://sbs.eco/wp-content/uploads/2026/02/the-current-and-future-landscape-of-carbon-capture.jpg
END:VEVENT
BEGIN:VEVENT
DTSTART;VALUE=DATE:20260316
DTEND;VALUE=DATE:20260318
DTSTAMP:20260423T195407
CREATED:20260223T100329Z
LAST-MODIFIED:20260223T100329Z
UID:10000389-1773619200-1773791999@sbs.eco
SUMMARY:International Circular Fashion Week Conference 2026
DESCRIPTION:A global platform where innovation and sustainability shape the future of fashion\, celebrating heritage\, craft\, repair\, and upcycling. \nWhat You’ll Learn\nInsights into circular fashion models and sustainable design practices; opportunities to discover innovative materials and zero-waste design approaches; networking with global sustainability leaders\, designers\, and policy-makers; understanding how heritage and traditional crafts can be integrated into modern circular fashion; exposure to upcycling\, repair\, and remanufacturing strategies. \nWho Should Attend\nFashion designers and entrepreneurs; sustainability researchers and academics; policy-makers and educators; cultural practitioners and artists; fashion students and changemakers; businesses seeking circular fashion innovation; retail and brand leaders interested in sustainable practices. \nAbout the Event\nThe International Circular Fashion Week Conference is a pioneering two-day event that brings together designers\, entrepreneurs\, researchers\, educators\, policy-makers\, students\, and changemakers from around the world to reimagine a fashion industry that works for both people and the planet. The 2026 edition places special focus on cultural heritage\, folklore\, traditional craft\, repair\, and upcycling through bold contemporary expression. Through panel discussions\, exhibitions\, workshops\, and live showcases\, the conference highlights groundbreaking circular models\, materials\, and ideas. The event features school workshops\, cultural performances\, and fashion shows\, providing unique opportunities for international networking\, cross-sector collaboration\, and real-world impact. \nEvent Details\nOrganiser: Circular Fashion Incubator CIC \nOrganiser website:\n\n \nHome \n\n \nStart:\n\n2026-03-16 09:00 AM\n \nEnd:\n\n2026-03-17 07:00 PM\n \nEvent link:\n\nView event details
URL:https://sbs.eco/sustainable-events/international-circular-fashion-week-conference-2026/
LOCATION:The Rose Bowl\, Leeds Beckett University\, Portland Way\, Leeds LS1 3HB\, United Kingdom
CATEGORIES:Innovation & Tech,Nature & Biodiversity,Net Zero & Climate
ATTACH;FMTTYPE=image/jpeg:https://sbs.eco/wp-content/uploads/2026/02/30153241-ff86a8ec-8180-49cc-b984-f22947aa701e-scaled.jpg
END:VEVENT
BEGIN:VEVENT
DTSTART;VALUE=DATE:20260318
DTEND;VALUE=DATE:20260319
DTSTAMP:20260423T195407
CREATED:20260115T094402Z
LAST-MODIFIED:20260115T094402Z
UID:10000336-1773792000-1773878399@sbs.eco
SUMMARY:Global Recycling Day 2026
DESCRIPTION:An annual global initiative to promote the importance of recycling in preserving resources and combating climate change. \nWhat You’ll Learn\nHighlights the business case for resource efficiency\, circular economy models and investment in recycling infrastructure and innovation to cut emissions and costs across value chains. \nWho Should Attend\nSustainability and ESG leaders\, waste and resource managers\, manufacturing and retail businesses\, policymakers\, NGOs and educators interested in circular economy and recycling. \nAbout the Event\nGlobal Recycling Day\, created by the Global Recycling Foundation\, is held every year on 18 March to recognise and celebrate the crucial role that recycling plays in conserving primary resources and reducing carbon emissions. The day encourages governments\, businesses and individuals worldwide to treat recyclables as a resource and to support better collection\, processing and circular economy solutions. \nEvent Details\nOrganiser: Global Recycling Foundation \nOrganiser website:\n\n \nHome \n\n \nStart:\n\n2026-03-18\n \nEnd:\n\n2026-03-18\n \nEvent link:\n\nView event details
URL:https://sbs.eco/sustainable-events/global-recycling-day-2026/
LOCATION:Online (virtual event)\, -\, United Kingdom
CATEGORIES:Innovation & Tech,Net Zero & Climate
ATTACH;FMTTYPE=image/png:https://sbs.eco/wp-content/uploads/2026/01/output1-13.png
END:VEVENT
BEGIN:VEVENT
DTSTART;VALUE=DATE:20260324
DTEND;VALUE=DATE:20260325
DTSTAMP:20260423T195407
CREATED:20260115T075125Z
LAST-MODIFIED:20260115T075125Z
UID:10000332-1774310400-1774396799@sbs.eco
SUMMARY:Green Finance UK 2026
DESCRIPTION:A UK green finance conference in Leeds connecting capital with investment-ready opportunities in the transition economy. \nWhat You’ll Learn\nInsights into green investment trends\, financing models for clean energy\, cities and industry\, and how businesses can position projects and strategies to attract capital for net‑zero and circular economy initiatives. \nWho Should Attend\nInstitutional and private investors\, finance and strategy directors\, sustainability and net‑zero leaders\, project developers and innovators seeking investment. \nAbout the Event\nGreen Finance UK 2026 is a nationally focused conference series delivered by The Sustainability Community. The 2026 edition in Leeds features three content streams: a Clean Energy Stage exploring how capital can accelerate the energy transition\, a Future Cities & Transport Stage focused on sustainable urban development and low‑carbon mobility\, and an Advanced Manufacturing Stage covering industrial decarbonisation\, circular economy models and clean technologies. The event aims to connect investors with credible\, investment‑ready opportunities across the UK’s transition economy. \nEvent Details\nOrganiser: The Sustainability Community \nOrganiser website:\n\nhttps://www.thesustainabilitycommunity.com\n \nStart:\n\n2026-03-24 09:00 AM\n \nEnd:\n\n2026-03-24 05:30 PM\n \nEvent link:\n\nView event details
URL:https://sbs.eco/sustainable-events/green-finance-uk-2026-leeds/
LOCATION:Leeds (venue TBC)\, Leeds\, United Kingdom\, United Kingdom
CATEGORIES:Finance & Investment,Innovation & Tech,Net Zero & Climate
ATTACH;FMTTYPE=image/png:https://sbs.eco/wp-content/uploads/2026/01/output1-9.png
END:VEVENT
BEGIN:VEVENT
DTSTART;VALUE=DATE:20260324
DTEND;VALUE=DATE:20260325
DTSTAMP:20260423T195407
CREATED:20260224T191616Z
LAST-MODIFIED:20260224T191616Z
UID:10000399-1774310400-1774396799@sbs.eco
SUMMARY:Optimal Charging: Fleet Electrification
DESCRIPTION:Driving the Next Phase of the UK’s Transport Decarbonisation through fleet electrification. \nWhat You’ll Learn\nStrategic insights on scaling electrification; case studies on charging infrastructure\, grid resilience\, and cost optimisation; networking with fleet operators and stakeholders. \nWho Should Attend\nSenior fleet owners\, operators\, infrastructure stakeholders\, and decision-makers in commercial transport transition. \nAbout the Event\nOptimal Charging: Fleet Electrification dives deep into real-world challenges and opportunities for bus\, eHGV\, utility\, MCV\, LCV and last-mile delivery fleets. The event features strategic insights from fleet leaders and operational best practices on grid constraints\, depot charging\, V2G integration\, and TCO optimisation. Returns on 24 March 2026 in partnership with First Bus at IET London: Savoy Place. \nEvent Details\nOrganiser: 3CAT Independent Mind LTD \nStart:\n\n2026-03-24\n \nEnd:\n\n2026-03-24\n \nEvent link:\n\nView event details
URL:https://sbs.eco/sustainable-events/optimal-charging-fleet-electrification-2026/
LOCATION:IET London: Savoy Place\, 2 Savoy Place\, London\, WC2R 0BL\, UK
CATEGORIES:Innovation & Tech,Net Zero & Climate,Travel
ATTACH;FMTTYPE=image/jpeg:https://sbs.eco/wp-content/uploads/2026/02/6840aa51032377ed4c3663d6_Electric-buses-charging-at-a-depot-using-smart-charge-scheduling-software.jpg
END:VEVENT
END:VCALENDAR