BEGIN:VCALENDAR
VERSION:2.0
PRODID:-//Sustainable Business Services - ECPv6.15.20//NONSGML v1.0//EN
CALSCALE:GREGORIAN
METHOD:PUBLISH
X-ORIGINAL-URL:https://sbs.eco
X-WR-CALDESC:Events for Sustainable Business Services
REFRESH-INTERVAL;VALUE=DURATION:PT1H
X-Robots-Tag:noindex
X-PUBLISHED-TTL:PT1H
BEGIN:VTIMEZONE
TZID:Europe/London
BEGIN:DAYLIGHT
TZOFFSETFROM:+0000
TZOFFSETTO:+0100
TZNAME:BST
DTSTART:20250330T010000
END:DAYLIGHT
BEGIN:STANDARD
TZOFFSETFROM:+0100
TZOFFSETTO:+0000
TZNAME:GMT
DTSTART:20251026T010000
END:STANDARD
BEGIN:DAYLIGHT
TZOFFSETFROM:+0000
TZOFFSETTO:+0100
TZNAME:BST
DTSTART:20260329T010000
END:DAYLIGHT
BEGIN:STANDARD
TZOFFSETFROM:+0100
TZOFFSETTO:+0000
TZNAME:GMT
DTSTART:20261025T010000
END:STANDARD
BEGIN:DAYLIGHT
TZOFFSETFROM:+0000
TZOFFSETTO:+0100
TZNAME:BST
DTSTART:20270328T010000
END:DAYLIGHT
BEGIN:STANDARD
TZOFFSETFROM:+0100
TZOFFSETTO:+0000
TZNAME:GMT
DTSTART:20271031T010000
END:STANDARD
END:VTIMEZONE
BEGIN:VTIMEZONE
TZID:UTC
BEGIN:STANDARD
TZOFFSETFROM:+0000
TZOFFSETTO:+0000
TZNAME:UTC
DTSTART:20250101T000000
END:STANDARD
END:VTIMEZONE
BEGIN:VEVENT
DTSTART;VALUE=DATE:20260202
DTEND;VALUE=DATE:20260203
DTSTAMP:20260425T143848
CREATED:20260114T184519Z
LAST-MODIFIED:20260114T184519Z
UID:10000330-1769990400-1770076799@sbs.eco
SUMMARY:East of England Sustainable Building Network
DESCRIPTION:A bi-monthly breakfast networking event in Norwich for construction and sustainability professionals to explore sustainable approaches in the built environment. \nWhat You’ll Learn\n• Practical insights for integrating sustainability into construction.\n• Learn about nature restoration and Biodiversity Net Gain (BNG) compliance.\n• Network with construction\, property\, and sustainability professionals across the East of England. \nWho Should Attend\nConstruction professionals\, developers\, architects\, engineers\, building services specialists\, sustainability consultants\, planners\, local stakeholders\, and anyone interested in sustainable building and a low-carbon built environment in the East of England. \nAbout the Event\nThe East of England Sustainable Building Network (EESBN) is a bi-monthly networking and learning opportunity hosted by Cannon Clarke Group for professionals in construction and sustainability. This event provides a platform to discuss increasing sustainability in the built environment while sharing insights and making connections over breakfast. Guests will learn from speakers including Nattergal Ltd\, a nature restoration company focused on biodiversity recovery and Biodiversity Net Gain (BNG) units\, essential for regulatory compliance in development projects. Join us to gain practical insights on how the construction sector can align with the UK’s Net Zero Carbon goals by 2050. \nEvent Details\nOrganiser: Cannon Clarke Group \nOrganiser website:\n\n \nSustainable Design Experts\, UK \n\n \nStart:\n\n2026-02-02 09:00 AM\n \nEnd:\n\n2026-02-02 11:30 AM\n \nEvent link:\n\nView event details
URL:https://sbs.eco/sustainable-events/east-of-england-sustainable-building-network-3/
LOCATION:Oak Bar & Terrace\, 89 Yarmouth Road\, Norwich NR7 0HH\, Norwich\, NR7 0HH\, United Kingdom
CATEGORIES:Nature & Biodiversity,Net Zero & Climate,Supply Chain & Scope 3
ATTACH;FMTTYPE=image/png:https://sbs.eco/wp-content/uploads/2026/01/output1-7.png
END:VEVENT
BEGIN:VEVENT
DTSTART;TZID=UTC:20260202T080000
DTEND;TZID=UTC:20260202T170000
DTSTAMP:20260425T143848
CREATED:20260202T094824Z
LAST-MODIFIED:20260202T094824Z
UID:10000367-1770019200-1770051600@sbs.eco
SUMMARY:World Wetlands Day 2026 – Wetlands and Traditional Knowledge: Celebrating Cultural Heritage
DESCRIPTION:Event Title: World Wetlands Day 2026 – Wetlands and Traditional Knowledge: Celebrating Cultural HeritageEvent URL: https://www.worldwetlandsday.org/Event Date: 2 February 2026 (Monday) Location: Global / Virtual + Local community events (online resources via the official site) \nWorld Wetlands Day 2026 explores the deep-rooted connections between wetlands and traditional knowledge systems\, celebrating cultural heritage and the timeless role of community-based stewardship in sustaining wetland ecosystems. \nWorld Wetlands Day\, observed annually on 2 February to mark the adoption of the Ramsar Convention on Wetlands in 1971\, is a global awareness day highlighting the critical ecological\, climatic and cultural roles of wetlands. For 2026\, the theme “Wetlands and Traditional Knowledge: Celebrating Cultural Heritage” spotlights how generations of traditional and indigenous practices have sustained wetland landscapes and shaped local identities. This campaign invites communities\, educators\, policymakers and conservation professionals to share stories\, host events\, and amplify the vital importance of wetlands for nature and people. \nOrganiser: Secretariat of the Convention on Wetlands (Ramsar Convention) Who Should Attend: Sustainability professionals\, NGOs\, educators\, policymakers\, community groups\, students\, and anyone committed to nature and climate resilience.Visit the official World Wetlands Day website for event toolkits\, campaign graphics\, pledge activities\, educational materials and ideas for local celebrations.
URL:https://sbs.eco/sustainable-events/world-wetlands-day-2026-wetlands-and-traditional-knowledge-celebrating-cultural-heritage/
LOCATION:Our Planet
CATEGORIES:Environment,Events,Nature & Biodiversity,Planet
ATTACH;FMTTYPE=image/png:https://sbs.eco/wp-content/uploads/2026/02/world_wetlands_day.png
END:VEVENT
END:VCALENDAR