BEGIN:VCALENDAR
VERSION:2.0
PRODID:-//Sustainable Business Services - ECPv6.15.20//NONSGML v1.0//EN
CALSCALE:GREGORIAN
METHOD:PUBLISH
X-WR-CALNAME:Sustainable Business Services
X-ORIGINAL-URL:https://sbs.eco
X-WR-CALDESC:Events for Sustainable Business Services
REFRESH-INTERVAL;VALUE=DURATION:PT1H
X-Robots-Tag:noindex
X-PUBLISHED-TTL:PT1H
BEGIN:VTIMEZONE
TZID:Europe/London
BEGIN:DAYLIGHT
TZOFFSETFROM:+0000
TZOFFSETTO:+0100
TZNAME:BST
DTSTART:20250330T010000
END:DAYLIGHT
BEGIN:STANDARD
TZOFFSETFROM:+0100
TZOFFSETTO:+0000
TZNAME:GMT
DTSTART:20251026T010000
END:STANDARD
BEGIN:DAYLIGHT
TZOFFSETFROM:+0000
TZOFFSETTO:+0100
TZNAME:BST
DTSTART:20260329T010000
END:DAYLIGHT
BEGIN:STANDARD
TZOFFSETFROM:+0100
TZOFFSETTO:+0000
TZNAME:GMT
DTSTART:20261025T010000
END:STANDARD
BEGIN:DAYLIGHT
TZOFFSETFROM:+0000
TZOFFSETTO:+0100
TZNAME:BST
DTSTART:20270328T010000
END:DAYLIGHT
BEGIN:STANDARD
TZOFFSETFROM:+0100
TZOFFSETTO:+0000
TZNAME:GMT
DTSTART:20271031T010000
END:STANDARD
END:VTIMEZONE
BEGIN:VEVENT
DTSTART;VALUE=DATE:20260313
DTEND;VALUE=DATE:20260330
DTSTAMP:20260425T131815
CREATED:20260119T095935Z
LAST-MODIFIED:20260119T095935Z
UID:10000339-1773360000-1774828799@sbs.eco
SUMMARY:The Great British Spring Clean
DESCRIPTION:Keep Britain Tidy’s annual national clean-up campaign where members of the British public join forces with partners to pick up litter and clean up landscapes. \nWhat You’ll Learn\nEngage corporate teams in community environmental action\, build brand reputation through litter-picking initiatives\, and demonstrate commitment to local environmental stewardship. \nWho Should Attend\nIndividuals\, community groups\, businesses\, councils\, and environmental organisations. \nAbout the Event\nThe Great British Spring Clean is an annual national clean-up campaign by Keep Britain Tidy. Members of the public join forces with big businesses\, trusts\, community groups\, and councils to pick up litter and clean up landscapes. The campaign aims to change behaviour permanently by spotlighting the problems caused by littering. \nEvent Details\nOrganiser: Keep Britain Tidy \nOrganiser website:\n\nhttps://www.keepbritaintidy.org.uk\n \nStart:\n\n2026-03-13\n \nEnd:\n\n2026-03-29\n \nEvent link:\n\nView event details
URL:https://sbs.eco/sustainable-events/great-british-spring-clean/
LOCATION:United Kingdom\, -\, United Kingdom
CATEGORIES:Nature & Biodiversity,Waste
ATTACH;FMTTYPE=image/png:https://sbs.eco/wp-content/uploads/2026/01/output1-16.png
END:VEVENT
BEGIN:VEVENT
DTSTART;VALUE=DATE:20260316
DTEND;VALUE=DATE:20260318
DTSTAMP:20260425T131815
CREATED:20260223T100329Z
LAST-MODIFIED:20260223T100329Z
UID:10000389-1773619200-1773791999@sbs.eco
SUMMARY:International Circular Fashion Week Conference 2026
DESCRIPTION:A global platform where innovation and sustainability shape the future of fashion\, celebrating heritage\, craft\, repair\, and upcycling. \nWhat You’ll Learn\nInsights into circular fashion models and sustainable design practices; opportunities to discover innovative materials and zero-waste design approaches; networking with global sustainability leaders\, designers\, and policy-makers; understanding how heritage and traditional crafts can be integrated into modern circular fashion; exposure to upcycling\, repair\, and remanufacturing strategies. \nWho Should Attend\nFashion designers and entrepreneurs; sustainability researchers and academics; policy-makers and educators; cultural practitioners and artists; fashion students and changemakers; businesses seeking circular fashion innovation; retail and brand leaders interested in sustainable practices. \nAbout the Event\nThe International Circular Fashion Week Conference is a pioneering two-day event that brings together designers\, entrepreneurs\, researchers\, educators\, policy-makers\, students\, and changemakers from around the world to reimagine a fashion industry that works for both people and the planet. The 2026 edition places special focus on cultural heritage\, folklore\, traditional craft\, repair\, and upcycling through bold contemporary expression. Through panel discussions\, exhibitions\, workshops\, and live showcases\, the conference highlights groundbreaking circular models\, materials\, and ideas. The event features school workshops\, cultural performances\, and fashion shows\, providing unique opportunities for international networking\, cross-sector collaboration\, and real-world impact. \nEvent Details\nOrganiser: Circular Fashion Incubator CIC \nOrganiser website:\n\n \nHome \n\n \nStart:\n\n2026-03-16 09:00 AM\n \nEnd:\n\n2026-03-17 07:00 PM\n \nEvent link:\n\nView event details
URL:https://sbs.eco/sustainable-events/international-circular-fashion-week-conference-2026/
LOCATION:The Rose Bowl\, Leeds Beckett University\, Portland Way\, Leeds LS1 3HB\, United Kingdom
CATEGORIES:Innovation & Tech,Nature & Biodiversity,Net Zero & Climate
ATTACH;FMTTYPE=image/jpeg:https://sbs.eco/wp-content/uploads/2026/02/30153241-ff86a8ec-8180-49cc-b984-f22947aa701e-scaled.jpg
END:VEVENT
BEGIN:VEVENT
DTSTART;VALUE=DATE:20260316
DTEND;VALUE=DATE:20260323
DTSTAMP:20260425T131815
CREATED:20260120T080030Z
LAST-MODIFIED:20260120T080030Z
UID:10000350-1773619200-1774223999@sbs.eco
SUMMARY:Trees Are The Key Awareness Week
DESCRIPTION:Annual awareness week highlighting health benefits of trees and tree planting to combat climate change\, encompassing International Day of Forests (21 March)\, run by The Word Forest Organisation. \nWhat You’ll Learn\nEngage in tree planting for carbon sequestration and biodiversity; partner with charities for nature-based climate solutions; support community-led reforestation in supply chains. \nWho Should Attend\nCSR managers\, sustainability officers\, environmental NGOs\, corporate tree-planting partners\, community groups focused on climate action. \nAbout the Event\nTrees Are The Key Awareness Week is an annual initiative by The Word Forest Organisation\, a UK-registered charity. It raises awareness of trees’ health benefits and their role in tackling climate change through rapid planting in the tropics. The week encompasses the UN International Day of Forests on 21 March. The organisation plants fast-growing trees in Kenya\, builds classrooms\, facilitates education on environmental topics like permaculture and agroforestry\, and empowers women through groups like Mothers of The Forest. These efforts support biodiversity\, clean air\, soil health\, and community resilience. They also plant trees in the UK and promote holistic environmental action linking tree planting with humanitarian support. \nEvent Details\nOrganiser: The Word Forest Organisation \nOrganiser website:\n\n \nHome \n\n \nStart:\n\n2026-03-16\n \nEnd:\n\n2026-03-22\n \nEvent link:\n\nView event details
URL:https://sbs.eco/sustainable-events/trees-are-the-key-awareness-week/
LOCATION:Global\, -\, UK
CATEGORIES:Nature & Biodiversity
ATTACH;FMTTYPE=image/jpeg:https://sbs.eco/wp-content/uploads/2026/01/Weeding-seedlings-at-community-tree-nursery.jpg
END:VEVENT
BEGIN:VEVENT
DTSTART;VALUE=DATE:20260317
DTEND;VALUE=DATE:20260318
DTSTAMP:20260425T131815
CREATED:20260308T192241Z
LAST-MODIFIED:20260308T192241Z
UID:10000410-1773705600-1773791999@sbs.eco
SUMMARY:World Water Day 2026: Where Water Flows\, Equality Grows
DESCRIPTION:An in-person symposium exploring partnerships for building equitable and sustainable water solutions\, examining the intersection of water access and gender equity with speakers from industry\, the third sector\, and academia. \nWhat You’ll Learn\nUnderstand partnerships and strategies for delivering sustainable water solutions; explore how gender equity and diversity improve water service effectiveness; learn from collaborative approaches between UK and African institutions addressing shared freshwater challenges; gain insights into innovative solutions emerging from cross-sector partnerships in the water sector. \nWho Should Attend\nWater sector professionals\, sustainability leaders\, engineers\, policy makers\, representatives from water utilities and NGOs\, academics\, and business leaders in infrastructure and environmental sectors seeking to understand equitable water solutions and gender-inclusive sustainability strategies. \nAbout the Event\nWorld Water Day 2026 is an in-person symposium hosted by the University of Strathclyde\, Scottish Water\, and WaterAid on 17 March 2026. The event explores the critical intersection of water access and gender equity\, aligning with the UN’s 2026 theme ‘Where Water Flows\, Equality Grows’. Participants will examine how water challenges disproportionately affect women and girls worldwide. The symposium features leading voices from industry\, the third sector\, and academia\, including speakers from the Royal Society of Edinburgh\, WaterAid\, Scottish Water\, and University of Strathclyde\, with expertise from UK and African partner institutions. Sessions will focus on commonalities in water challenges\, innovative solutions from collaborative partnerships\, and the urgent need for collective action as climate change intensifies pressure on freshwater resources. \nEvent Details\nOrganiser: University of Strathclyde\, Scottish Water\, WaterAid \nOrganiser website:\n\nhttps://www.strath.ac.uk/\n \nStart:\n\n2026-03-17 09:30 AM\n \nEnd:\n\n2026-03-17 04:30 PM\n \nEvent link:\n\nView event details
URL:https://sbs.eco/sustainable-events/world-water-day-2026-conference/
LOCATION:University of Strathclyde\, The Technology and Innovation Centre\, 99 George Street\, Glasgow G1 1RD\, United Kingdom
CATEGORIES:Nature & Biodiversity,Policy & Regulation
END:VEVENT
END:VCALENDAR