BEGIN:VCALENDAR
VERSION:2.0
PRODID:-//Sustainable Business Services - ECPv6.15.20//NONSGML v1.0//EN
CALSCALE:GREGORIAN
METHOD:PUBLISH
X-WR-CALNAME:Sustainable Business Services
X-ORIGINAL-URL:https://sbs.eco
X-WR-CALDESC:Events for Sustainable Business Services
REFRESH-INTERVAL;VALUE=DURATION:PT1H
X-Robots-Tag:noindex
X-PUBLISHED-TTL:PT1H
BEGIN:VTIMEZONE
TZID:Europe/London
BEGIN:DAYLIGHT
TZOFFSETFROM:+0000
TZOFFSETTO:+0100
TZNAME:BST
DTSTART:20250330T010000
END:DAYLIGHT
BEGIN:STANDARD
TZOFFSETFROM:+0100
TZOFFSETTO:+0000
TZNAME:GMT
DTSTART:20251026T010000
END:STANDARD
BEGIN:DAYLIGHT
TZOFFSETFROM:+0000
TZOFFSETTO:+0100
TZNAME:BST
DTSTART:20260329T010000
END:DAYLIGHT
BEGIN:STANDARD
TZOFFSETFROM:+0100
TZOFFSETTO:+0000
TZNAME:GMT
DTSTART:20261025T010000
END:STANDARD
BEGIN:DAYLIGHT
TZOFFSETFROM:+0000
TZOFFSETTO:+0100
TZNAME:BST
DTSTART:20270328T010000
END:DAYLIGHT
BEGIN:STANDARD
TZOFFSETFROM:+0100
TZOFFSETTO:+0000
TZNAME:GMT
DTSTART:20271031T010000
END:STANDARD
END:VTIMEZONE
BEGIN:VEVENT
DTSTART;VALUE=DATE:20260531
DTEND;VALUE=DATE:20260630
DTSTAMP:20260425T143836
CREATED:20260223T103429Z
LAST-MODIFIED:20260223T103429Z
UID:10000398-1780185600-1782777599@sbs.eco
SUMMARY:30 Days Wild
DESCRIPTION:UK’s biggest nature challenge encouraging daily random acts of wildness throughout June. \nWhat You’ll Learn\nOpportunities to engage employees in biodiversity activities\, contribute to corporate nature commitments\, and utilise The Wildlife Trusts’ Biodiversity Benchmark scheme for assessing business performance in biodiversity. \nWho Should Attend\nCSR managers\, sustainability officers\, HR teams looking to boost employee wellbeing through nature\, and businesses interested in biodiversity net gain and corporate environmental responsibility. \nAbout the Event\n30 Days Wild is the UK’s biggest nature challenge run by The Wildlife Trusts. Participants sign up to complete one random act of wildness every day for 30 days in June\, fostering a connection with nature across the country. The campaign promotes simple activities to engage people with wildlife and the outdoors. It is a nationwide initiative involving individuals\, families\, and communities. \nEvent Details\nOrganiser: The Wildlife Trusts \nOrganiser website:\n\nhttps://www.wildlifetrusts.org\n \nStart:\n\n2026-06-01\n \nEnd:\n\n2026-06-30\n \nEvent link:\n\nView event details
URL:https://sbs.eco/sustainable-events/30-days-wild/
LOCATION:Various Events – UK
CATEGORIES:Nature & Biodiversity
ATTACH;FMTTYPE=image/jpeg:https://sbs.eco/wp-content/uploads/2026/02/30DW_Individuals_Wallchart_2023_page-0001.jpg
END:VEVENT
BEGIN:VEVENT
DTSTART;VALUE=DATE:20260605
DTEND;VALUE=DATE:20260614
DTSTAMP:20260425T143836
CREATED:20260120T073620Z
LAST-MODIFIED:20260120T073620Z
UID:10000352-1780617600-1781395199@sbs.eco
SUMMARY:Great Big Green Week 2026
DESCRIPTION:The UK’s largest celebration of community action to tackle climate change and protect nature. \nWhat You’ll Learn\nEngage employees in community climate initiatives\, host corporate green events\, demonstrate sustainability leadership\, partner with local environmental efforts\, reduce operational impacts through shared actions. \nWho Should Attend\nBusinesses\, community groups\, schools\, local councils\, environmental organisations\, sustainability managers\, CSR teams. \nAbout the Event\nGreat Big Green Week is coordinated by The Climate Coalition\, uniting over 130 organisations including WWF\, RSPB\, National Trust\, and others. It encourages communities\, schools\, businesses\, and individuals to host or join local events focused on climate action\, nature protection\, sustainability\, and reducing environmental impact. Events include clothes swaps\, food sharing\, litter picks\, community planting\, repair cafes\, and educational activities. The initiative demonstrates collective power for a greener\, fairer future through grassroots participation nationwide. Participation is free and open to all\, with resources provided for schools and groups to organise activities. \nEvent Details\nOrganiser: The Climate Coalition \nOrganiser website:\n\nhttps://www.theclimatecoalition.org/\n \nStart:\n\n2026-06-06\n \nEnd:\n\n2026-06-14\n \nEvent link:\n\nView event details
URL:https://sbs.eco/sustainable-events/great-big-green-week-2026-2/
LOCATION:United Kingdom (multiple community locations)\, United Kingdom
CATEGORIES:Nature & Biodiversity,Net Zero & Climate
ATTACH;FMTTYPE=image/jpeg:https://sbs.eco/wp-content/uploads/2026/01/sddefault.jpg
END:VEVENT
BEGIN:VEVENT
DTSTART;VALUE=DATE:20260608
DTEND;VALUE=DATE:20260609
DTSTAMP:20260425T143836
CREATED:20260415T063716Z
LAST-MODIFIED:20260415T063716Z
UID:10000447-1780876800-1780963199@sbs.eco
SUMMARY:World Oceans Day
DESCRIPTION:Global UN observance on June 8 promoting ocean conservation\, biodiversity protection\, and sustainable practices worldwide. \nWhat You’ll Learn\nAdopt sustainable seafood sourcing; implement supply chain measures to cut plastic pollution; support marine protected areas; enhance biodiversity reporting in ESG frameworks. \nWho Should Attend\nSustainability managers in food\, retail\, and manufacturing; supply chain executives; ESG reporting teams; fisheries and seafood business leaders. \nAbout the Event\nWorld Oceans Day is an annual United Nations-recognized event held on June 8 to celebrate the oceans’ vital role in life on Earth. Oceans cover over 70% of the planet\, produce more than half of the world’s oxygen\, and support food security and livelihoods for millions. Threats including overfishing\, plastic pollution\, climate change\, and habitat destruction endanger marine ecosystems. The 2026 action theme focuses on ‘Strong Marine Protected Areas for Our Blue Planet\,’ emphasizing robust protections for ocean health. Individuals\, communities\, and organizations worldwide participate through beach cleanups\, educational programs\, art contests\, film screenings\, and pledges for sustainable practices. Established after the 1992 Earth Summit and officially adopted by the UN in 2008\, the day encourages collective action to preserve biodiversity and reduce ocean pollution. \nEvent Details\nOrganiser: World Ocean Day / United Nations \nOrganiser website:\n\nhttps://worldoceanday.org\n \nStart:\n\n2026-06-08\n \nEnd:\n\n2026-06-08\n \nEvent link:\n\nView event details
URL:https://sbs.eco/sustainable-events/world-oceans-day-2026/
LOCATION:Our Planet
CATEGORIES:International Awareness Days,Nature & Biodiversity
ATTACH;FMTTYPE=image/png:https://sbs.eco/wp-content/uploads/2025/06/world_oceans_day-25.png
END:VEVENT
END:VCALENDAR