BEGIN:VCALENDAR
VERSION:2.0
PRODID:-//Sustainable Business Services - ECPv6.15.20//NONSGML v1.0//EN
CALSCALE:GREGORIAN
METHOD:PUBLISH
X-WR-CALNAME:Sustainable Business Services
X-ORIGINAL-URL:https://sbs.eco
X-WR-CALDESC:Events for Sustainable Business Services
REFRESH-INTERVAL;VALUE=DURATION:PT1H
X-Robots-Tag:noindex
X-PUBLISHED-TTL:PT1H
BEGIN:VTIMEZONE
TZID:UTC
BEGIN:STANDARD
TZOFFSETFROM:+0000
TZOFFSETTO:+0000
TZNAME:UTC
DTSTART:20240101T000000
END:STANDARD
END:VTIMEZONE
BEGIN:VEVENT
DTSTART;TZID=UTC:20251121T130000
DTEND;TZID=UTC:20251121T150000
DTSTAMP:20260424T060321
CREATED:20251106T172546Z
LAST-MODIFIED:20251106T172546Z
UID:10000270-1763730000-1763737200@sbs.eco
SUMMARY:Let's Talk Nature: Yorkshire's Wildlife Projects
DESCRIPTION:Overview\n\n\n\n\n\nJoin us for a chat about all things nature in Yorkshire\, from wildlife projects to conservation efforts!\n\n\n\nWelcome nature lovers! 🌿 \nJoin us for Let’s Talk Nature: Yorkshire’s Wildlife Projects at Tang Hall Community Centre on November 21\, 2025 at 1:00 PM. Get ready to explore Yorkshire’s amazing wildlife projects with guest speakers from St.Nick’s Nature Reserve\, RSPB and more. Learn how you can get involved and accompany us after for a nature walk in St. Nick’s. \nLet’s discuss conservation efforts\, local species\, and more. Don’t miss out on this opportunity to connect with fellow nature enthusiasts and make a difference in our community. See you there!
URL:https://sbs.eco/sustainable-events/lets-talk-nature-yorkshires-wildlife-projects/
LOCATION:Tang Hall Community Centre\, Fifth Avenue\, York\, YO31 0UG
CATEGORIES:Events,Nature
ATTACH;FMTTYPE=image/png:https://sbs.eco/wp-content/uploads/2025/11/yorkshire-wildlife-projects.png
END:VEVENT
BEGIN:VEVENT
DTSTART;TZID=UTC:20251122T080000
DTEND;TZID=UTC:20251130T170000
DTSTAMP:20260424T060321
CREATED:20251110T101803Z
LAST-MODIFIED:20251125T171752Z
UID:10000272-1763798400-1764522000@sbs.eco
SUMMARY:SBS Celebrates National Tree Week 2025: Planting a Greener Future Together
DESCRIPTION:Sustainable Business Services (SBS) is proud to support National Tree Week 2025\, the UK’s largest annual tree celebration\, running from Saturday 22 November to Sunday 30 November 2025. In partnership with The Tree Council\, we’re inviting businesses\, communities\, and individuals to plant trees and take meaningful climate action. \nAs part of our commitment to nature-positive practices\, SBS will be hosting tree planting activities\, offering educational content\, and providing support to organisations looking to integrate biodiversity into their net-zero strategies. Whether you’re a business leader\, sustainability professional\, or nature enthusiast\, this is your chance to make a tangible impact. \n✅ Why Join Us? \n\n\nSupport reforestation & biodiversity goals \n\n\nEngage your team in hands-on sustainability activities \n\n\nLearn how tree planting fits into a net-zero plan \n\n\nGain visibility as a climate-conscious brand \n\n\n📍 Location: Various local tree planting sites & virtual sessions📅 Date: 22–30 November 2025🎟️ Register: https://treecouncil.org.uk/seasonal-campaigns/national-tree-week/
URL:https://sbs.eco/sustainable-events/national-tree-week-2025-sbs/
LOCATION:Various Events – UK
CATEGORIES:Animals & Insects,Nature
ATTACH;FMTTYPE=image/png:https://sbs.eco/wp-content/uploads/2025/11/national_Tree_Week-2025.png
END:VEVENT
END:VCALENDAR