BEGIN:VCALENDAR
VERSION:2.0
PRODID:-//Sustainable Business Services - ECPv6.15.20//NONSGML v1.0//EN
CALSCALE:GREGORIAN
METHOD:PUBLISH
X-WR-CALNAME:Sustainable Business Services
X-ORIGINAL-URL:https://sbs.eco
X-WR-CALDESC:Events for Sustainable Business Services
REFRESH-INTERVAL;VALUE=DURATION:PT1H
X-Robots-Tag:noindex
X-PUBLISHED-TTL:PT1H
BEGIN:VTIMEZONE
TZID:Europe/London
BEGIN:DAYLIGHT
TZOFFSETFROM:+0000
TZOFFSETTO:+0100
TZNAME:BST
DTSTART:20250330T010000
END:DAYLIGHT
BEGIN:STANDARD
TZOFFSETFROM:+0100
TZOFFSETTO:+0000
TZNAME:GMT
DTSTART:20251026T010000
END:STANDARD
BEGIN:DAYLIGHT
TZOFFSETFROM:+0000
TZOFFSETTO:+0100
TZNAME:BST
DTSTART:20260329T010000
END:DAYLIGHT
BEGIN:STANDARD
TZOFFSETFROM:+0100
TZOFFSETTO:+0000
TZNAME:GMT
DTSTART:20261025T010000
END:STANDARD
BEGIN:DAYLIGHT
TZOFFSETFROM:+0000
TZOFFSETTO:+0100
TZNAME:BST
DTSTART:20270328T010000
END:DAYLIGHT
BEGIN:STANDARD
TZOFFSETFROM:+0100
TZOFFSETTO:+0000
TZNAME:GMT
DTSTART:20271031T010000
END:STANDARD
END:VTIMEZONE
BEGIN:VEVENT
DTSTART;TZID=Europe/London:20260210T000000
DTEND;TZID=Europe/London:20260212T235959
DTSTAMP:20260425T102823
CREATED:20260120T092004Z
LAST-MODIFIED:20260120T092004Z
UID:10000344-1770681600-1770940799@sbs.eco
SUMMARY:GRIPS 2026 – Global Research & Innovation in Plastics Sustainability
DESCRIPTION:Three-day virtual UK-led conference showcasing research and innovation in plastics sustainability and circular solutions. \nWhat You’ll Learn\nExposure to cutting-edge plastics and circular economy innovation\, partnership opportunities\, and insight into how new materials and systems can reduce waste and Scope 3 emissions. \nWho Should Attend\nManufacturers\, retailers\, packaging specialists\, innovators\, researchers\, policymakers and corporate sustainability teams tackling plastic and packaging impacts. \nAbout the Event\nGRIPS 2026 – Global Research & Innovation in Plastics Sustainability is a three-day online conference highlighting UK and international projects that address the environmental impacts of plastics. The event presents funded innovations on plastic reduction\, reuse\, recycling and circular business models\, and explores how they support wider climate and resource goals. \nEvent Details\nOrganiser: Innovate UK Business Connect \nOrganiser website:\n\n \nHome \n\n \nStart:\n\n2026-02-10\n \nEnd:\n\n2026-02-12\n \nEvent link:\n\nView event details
URL:https://sbs.eco/sustainable-events/grips-2026-plastics-sustainability/
LOCATION:Online (virtual event)\, -\, United Kingdom
CATEGORIES:Innovation & Tech,Net Zero & Climate,Supply Chain & Scope 3
END:VEVENT
END:VCALENDAR