BEGIN:VCALENDAR
VERSION:2.0
PRODID:-//Sustainable Business Services - ECPv6.15.20//NONSGML v1.0//EN
CALSCALE:GREGORIAN
METHOD:PUBLISH
X-ORIGINAL-URL:https://sbs.eco
X-WR-CALDESC:Events for Sustainable Business Services
REFRESH-INTERVAL;VALUE=DURATION:PT1H
X-Robots-Tag:noindex
X-PUBLISHED-TTL:PT1H
BEGIN:VTIMEZONE
TZID:Europe/London
BEGIN:DAYLIGHT
TZOFFSETFROM:+0000
TZOFFSETTO:+0100
TZNAME:BST
DTSTART:20250330T010000
END:DAYLIGHT
BEGIN:STANDARD
TZOFFSETFROM:+0100
TZOFFSETTO:+0000
TZNAME:GMT
DTSTART:20251026T010000
END:STANDARD
BEGIN:DAYLIGHT
TZOFFSETFROM:+0000
TZOFFSETTO:+0100
TZNAME:BST
DTSTART:20260329T010000
END:DAYLIGHT
BEGIN:STANDARD
TZOFFSETFROM:+0100
TZOFFSETTO:+0000
TZNAME:GMT
DTSTART:20261025T010000
END:STANDARD
BEGIN:DAYLIGHT
TZOFFSETFROM:+0000
TZOFFSETTO:+0100
TZNAME:BST
DTSTART:20270328T010000
END:DAYLIGHT
BEGIN:STANDARD
TZOFFSETFROM:+0100
TZOFFSETTO:+0000
TZNAME:GMT
DTSTART:20271031T010000
END:STANDARD
END:VTIMEZONE
BEGIN:VEVENT
DTSTART;VALUE=DATE:20260513
DTEND;VALUE=DATE:20260515
DTSTAMP:20260425T121101
CREATED:20260204T131317Z
LAST-MODIFIED:20260204T131317Z
UID:10000375-1778630400-1778803199@sbs.eco
SUMMARY:All-Energy 2026
DESCRIPTION:Join All-Energy 2026 at SEC Glasgow\, the UK’s largest low-carbon energy and renewables exhibition and conference\, featuring networking\, exhibitions\, and strategic summits on clean energy transition. \nWhat You’ll Learn\nGain insights on renewable technologies and low-carbon solutions\, network with over 300 exhibitors and buyers\, attend strategic summits and sessions on energy transition\, establish supply chain partnerships via Meet the Buyer\, and explore innovations in hydrogen\, storage\, and wind. \nWho Should Attend\nRenewable energy professionals\, energy end-users\, sustainability managers\, supply chain executives\, policymakers\, investors\, technology developers\, and energy company representatives. \nAbout the Event\nAll-Energy 2026\, celebrating 25 years as the UK’s leading clean and low-carbon energy event\, will be held at SEC Glasgow on May 13-14. This prestigious event connects suppliers of renewable and low-carbon solutions with policymakers\, developers\, investors\, and professionals for business and knowledge exchange through exhibitions\, conferences\, and innovative features such as the Strategic Summit\, Solar and Storage theatre\, Innovators Hub\, and Women in New Energy Zone. \nWith over 300 exhibitors anticipated\, covering bioenergy\, hydrogen\, wind\, energy storage\, and more\, this event includes new roundtables and workshops focusing on the energy transition. It also supports supply chain growth through initiatives like Meet the Buyer and emphasizes skills development with STEM and Future Talent programmes. \nAll-Energy 2026 is a vital platform for engineering a net zero future\, facilitating networking with industry leaders and showcasing innovations that drive decarbonisation and enhance energy security. \nEvent Details\nOrganiser: RX Global \nOrganiser website:\n\nhttps://www.all-energy.co.uk/en-gb.html\n \nStart:\n\n2026-05-13\n \nEnd:\n\n2026-05-14\n \nEvent link:\n\nView event details
URL:https://sbs.eco/sustainable-events/all-energy-2026/
LOCATION:SEC Glasgow\, Exhibition Way\, Glasgow\, G3 8YW\, United Kingdom
CATEGORIES:Energy & Renewables,Innovation & Tech,Net Zero & Climate
ATTACH;FMTTYPE=image/jpeg:https://sbs.eco/wp-content/uploads/2026/02/renewable-energy-landscape-featuring-solar-panels-wind-turbines-under-vibrant-sunset-sky-renewable-energy-landscape-356127874.jpg
END:VEVENT
BEGIN:VEVENT
DTSTART;VALUE=DATE:20260519
DTEND;VALUE=DATE:20260521
DTSTAMP:20260425T121101
CREATED:20260415T061656Z
LAST-MODIFIED:20260415T061726Z
UID:10000439-1779148800-1779321599@sbs.eco
SUMMARY:Impact Investor Global Summit 2026
DESCRIPTION:Join 700+ leaders at the leading global conference for impact and transition investors\, exploring private capital’s role in sustainable futures. \nWhat You’ll Learn\nGain insights on AI integration in investment due diligence; navigate market adaptations post-COVID; explore credit and secondary market opportunities; identify infrastructure investments; and connect with a network of over 250 active allocators. \nWho Should Attend\nImpact investors\, institutional and family offices\, asset owners and managers\, sustainability finance professionals\, looking to uncover impact-aligned opportunities. \nAbout the Event\nThe Impact Investor Global Summit 2026 convenes over 700 leaders in impact and transition investing at The Brewery in London. It serves as a premier platform for discussing how private capital drives sustainable futures and uncovers investable opportunities. Explore hot topics including the integration of AI in impact investing\, navigating the evolving impact landscape\, and transition strategies across energy and infrastructure sectors. This event is designed for institutional investors\, fund managers\, and sustainability finance professionals seeking to network and share insights. \nEvent Details\nOrganiser: PEI Events / New Private Markets \nOrganiser website:\n\nhttps://www.peievents.com/\n \nStart:\n\n2026-05-19\n \nEnd:\n\n2026-05-20\n \nEvent link:\n\nView event details
URL:https://sbs.eco/sustainable-events/impact-investor-global-summit-2026/
LOCATION:The Brewery\, The Brewery\, London\, United Kingdom
CATEGORIES:Finance & Investment,Net Zero & Climate
ATTACH;FMTTYPE=image/png:https://sbs.eco/wp-content/uploads/2026/04/Impact-Investor-Summit-2026.png
END:VEVENT
BEGIN:VEVENT
DTSTART;VALUE=DATE:20260605
DTEND;VALUE=DATE:20260606
DTSTAMP:20260425T121101
CREATED:20260415T063354Z
LAST-MODIFIED:20260415T063354Z
UID:10000448-1780617600-1780703999@sbs.eco
SUMMARY:World Environment Day 2026
DESCRIPTION:Join World Environment Day 2026 for global climate action initiatives hosted by UNEP in Baku\, Azerbaijan. \nWhat You’ll Learn\nShowcase sustainability initiatives\, make public climate commitments\, network with global stakeholders\, and access UNEP resources for environmental progress. \nWho Should Attend\nBusinesses\, corporations\, governments\, NGOs\, and community groups focused on sustainability and climate action. \nAbout the Event\nWorld Environment Day 2026\, hosted by the Republic of Azerbaijan in Baku on 5 June\, spotlights urgent climate action. It rallies millions worldwide through online and in-person events\, campaigns\, and activities to address rising temperatures\, ecosystem collapse\, and weather extremes. The event emphasizes rethinking economic systems and repairing our climate relationship for a sustainable future. Established in 1972\, it mobilizes over 150 countries annually. \nEvent Details\nOrganiser: UNEP \nOrganiser website:\n\nhttps://www.unep.org/\n \nStart:\n\n2026-06-05\n \nEnd:\n\n2026-06-05\n \nEvent link:\n\nView event details
URL:https://sbs.eco/sustainable-events/world-environment-day-2026/
LOCATION:Baku\, Azerbaijan\, -\, Azerbaijan
CATEGORIES:Nature & Biodiversity,Net Zero & Climate
ATTACH;FMTTYPE=image/jpeg:https://sbs.eco/wp-content/uploads/2024/05/Sustainable-Business-Services-Nature-Positive-Reforestation.jpg
END:VEVENT
BEGIN:VEVENT
DTSTART;VALUE=DATE:20260605
DTEND;VALUE=DATE:20260614
DTSTAMP:20260425T121101
CREATED:20260120T073620Z
LAST-MODIFIED:20260120T073620Z
UID:10000352-1780617600-1781395199@sbs.eco
SUMMARY:Great Big Green Week 2026
DESCRIPTION:The UK’s largest celebration of community action to tackle climate change and protect nature. \nWhat You’ll Learn\nEngage employees in community climate initiatives\, host corporate green events\, demonstrate sustainability leadership\, partner with local environmental efforts\, reduce operational impacts through shared actions. \nWho Should Attend\nBusinesses\, community groups\, schools\, local councils\, environmental organisations\, sustainability managers\, CSR teams. \nAbout the Event\nGreat Big Green Week is coordinated by The Climate Coalition\, uniting over 130 organisations including WWF\, RSPB\, National Trust\, and others. It encourages communities\, schools\, businesses\, and individuals to host or join local events focused on climate action\, nature protection\, sustainability\, and reducing environmental impact. Events include clothes swaps\, food sharing\, litter picks\, community planting\, repair cafes\, and educational activities. The initiative demonstrates collective power for a greener\, fairer future through grassroots participation nationwide. Participation is free and open to all\, with resources provided for schools and groups to organise activities. \nEvent Details\nOrganiser: The Climate Coalition \nOrganiser website:\n\nhttps://www.theclimatecoalition.org/\n \nStart:\n\n2026-06-06\n \nEnd:\n\n2026-06-14\n \nEvent link:\n\nView event details
URL:https://sbs.eco/sustainable-events/great-big-green-week-2026-2/
LOCATION:United Kingdom (multiple community locations)\, United Kingdom
CATEGORIES:Nature & Biodiversity,Net Zero & Climate
ATTACH;FMTTYPE=image/jpeg:https://sbs.eco/wp-content/uploads/2026/01/sddefault.jpg
END:VEVENT
BEGIN:VEVENT
DTSTART;VALUE=DATE:20260617
DTEND;VALUE=DATE:20260618
DTSTAMP:20260425T121101
CREATED:20260120T080229Z
LAST-MODIFIED:20260120T080229Z
UID:10000349-1781654400-1781740799@sbs.eco
SUMMARY:Clean Air Day
DESCRIPTION:Clean Air Day is the UK’s largest air pollution awareness campaign\, organised annually by Global Action Plan to raise public understanding and drive action for cleaner air. \nWhat You’ll Learn\nAccess free resources for Clean Air Day events\, encourage low-emission commuting among employees\, partner with Global Action Plan on air quality initiatives\, advocate for policy changes affecting business operations. \nWho Should Attend\nBusinesses committed to sustainability\, HR and facilities managers\, schools\, local authorities\, healthcare professionals\, community groups. \nAbout the Event\nClean Air Day\, launched in 2017 by Global Action Plan\, is held every third Thursday in June. It raises awareness of air pollution’s impacts on health and the environment\, encouraging individuals\, communities\, schools\, businesses\, and local authorities to take action. The campaign provides resources for events and petitions to influence policy\, such as cleaner transport. \nAir pollution is linked to thousands of premature deaths annually in the UK. Past campaigns have increased public prioritisation of the issue\, with more people choosing active travel over cars. Global Action Plan collaborates with organisations to mobilise the Clean Air movement. \nThe day promotes simple actions like reducing car idling\, walking or cycling\, and advocating for systemic changes to eliminate fossil fuel use in urban areas. \nEvent Details\nOrganiser: Global Action Plan \nOrganiser website:\n\nhttps://www.globalactionplan.org.uk/\n \nStart:\n\n2026-06-18\n \nEnd:\n\n2026-06-18\n \nEvent link:\n\nView event details
URL:https://sbs.eco/sustainable-events/clean-air-day-2/
LOCATION:United Kingdom (multiple community locations)\, United Kingdom
CATEGORIES:Net Zero & Climate
ATTACH;FMTTYPE=image/jpeg:https://sbs.eco/wp-content/uploads/2023/03/durham_Free_Pixbay_StockImage_JS-200121.jpg
END:VEVENT
BEGIN:VEVENT
DTSTART;TZID=Europe/London:20260624T180000
DTEND;TZID=Europe/London:20260624T230000
DTSTAMP:20260425T121101
CREATED:20260119T095505Z
LAST-MODIFIED:20260119T095505Z
UID:10000342-1782324000-1782342000@sbs.eco
SUMMARY:UK Green Business Awards 2026
DESCRIPTION:Awards highlighting innovative UK companies\, projects and campaigns in green business. \nWhat You’ll Learn\nRecognition for sustainability efforts\, networking. \nWho Should Attend\nGreen business leaders\, innovative companies. \nAbout the Event\nRewards organisations building sustainable economy. \nEvent Details\nOrganiser: Business Green \nOrganiser website: https://www.businessgreen.com/ \nStart:\n\n2026-06-24\n \nEnd:\n\n2026-06-24\n \nEvent link:\n\nView event details
URL:https://sbs.eco/sustainable-events/uk-green-business-awards-2026/
LOCATION:The Brewery\, The Brewery\, London\, United Kingdom
CATEGORIES:Innovation & Tech,Net Zero & Climate
ATTACH;FMTTYPE=image/png:https://sbs.eco/wp-content/uploads/2026/01/output1-19.png
ORGANIZER;CN="Business Green":MAILTO:hello@businessgreen.com
END:VEVENT
BEGIN:VEVENT
DTSTART;VALUE=DATE:20260703
DTEND;VALUE=DATE:20260710
DTSTAMP:20260425T121101
CREATED:20260120T073913Z
LAST-MODIFIED:20260120T073913Z
UID:10000351-1783036800-1783641599@sbs.eco
SUMMARY:Net Zero Week 2026
DESCRIPTION:UK’s official national awareness week and biggest net zero conference with online webinars featuring net zero leaders and experts. \nWhat You’ll Learn\nLearn decarbonisation strategies from leaders\, explore sustainability metrics for business resilience\, discover innovations in energy and carbon management\, network with industry peers and policymakers. \nWho Should Attend\nSustainability professionals\, net zero leads\, corporate executives\, climate strategy teams\, business decision-makers across sectors. \nAbout the Event\nNet Zero Week 2026 (4-10 July) is the UK’s official national awareness week\, backed by government and industry. It features the biggest net zero conference with over 3\,000 online delegates and deep-dive webinars hosted by experts on decarbonisation\, sustainability strategies\, and net zero transition. Additional events include Net Zero Week in Parliament for networking with key figures and MPs. Topics cover embedding sustainability in business\, stakeholder collaboration for net zero\, fleet decarbonisation\, and aviation technologies. The event promotes actionable initiatives in energy\, resources\, and carbon management for long-term growth and resilience. \nEvent Details\nOrganiser: Net Zero Week \nOrganiser website:\n\n \nHome \n\n \nStart:\n\n2026-07-04\n \nEnd:\n\n2026-07-10\n \nEvent link:\n\nView event details
URL:https://sbs.eco/sustainable-events/net-zero-week-2026/
LOCATION:United Kingdom (multiple community locations)\, United Kingdom
CATEGORIES:Net Zero & Climate
ATTACH;FMTTYPE=image/png:https://sbs.eco/wp-content/uploads/2026/01/Net_Zero-Week-2026.png
END:VEVENT
BEGIN:VEVENT
DTSTART;VALUE=DATE:20260708
DTEND;VALUE=DATE:20260709
DTSTAMP:20260425T121101
CREATED:20260415T063853Z
LAST-MODIFIED:20260415T063853Z
UID:10000440-1783468800-1783555199@sbs.eco
SUMMARY:Future Cities and Transport UK
DESCRIPTION:A national summit uniting leaders\, innovators\, policymakers\, investors and city builders to redefine thriving urban environments and future-ready transport systems. \nWhat You’ll Learn\nCase studies and best practices on digital mobility and sustainable transport solutions; pathways to bridge workforce gaps in green infrastructure and urban planning; investment and procurement opportunities in net zero cities; strategic partnerships for place-based regeneration and equitable public space design. \nWho Should Attend\nCity leaders\, urban planners\, transport innovators\, infrastructure developers\, investors\, policymakers\, educators\, industry partners\, local government officials and sustainability professionals. \nAbout the Event\nFuture Cities and Transport UK 2026 is a national summit bringing together city leaders\, planners\, transport pioneers\, investors and policymakers to explore integrated planning\, smart mobility\, resilient infrastructure and targeted investment. The event features three stages: Mobility—designing tomorrow’s urban systems through transport planning and data-driven solutions; Infrastructure—building resilient urban environments; and Workforce—addressing skills gaps in planning\, digital infrastructure\, transport engineering and climate adaptation. Attendees will discover case studies on digital mobility\, sustainable infrastructure and community-centred planning\, and forge partnerships delivering measurable outcomes. \nEvent Details\nOrganiser: The Sustainability Community \nOrganiser website:\n\nhttps://www.thesustainabilitycommunity.com/\n \nStart:\n\n2026-07-08 09:00 AM\n \nEnd:\n\n2026-07-08 05:30 PM\n \nEvent link:\n\nView event details
URL:https://sbs.eco/sustainable-events/future-cities-transport-uk-2026/
LOCATION:Hilton Liverpool City Centre\, 3 Thomas Steers Way\, Liverpool L1 8LW\, United Kingdom
CATEGORIES:Innovation & Tech,Net Zero & Climate,Skills & Workforce
ATTACH;FMTTYPE=image/jpeg:https://sbs.eco/wp-content/uploads/2026/04/mobilita-elettrica-smart-city-world-economic-forum_2400x1160.jpg
END:VEVENT
BEGIN:VEVENT
DTSTART;VALUE=DATE:20260728
DTEND;VALUE=DATE:20260729
DTSTAMP:20260425T121101
CREATED:20260415T064628Z
LAST-MODIFIED:20260415T064628Z
UID:10000445-1785196800-1785283199@sbs.eco
SUMMARY:Earth Overshoot Day
DESCRIPTION:Marks the date when humanity’s demand exceeds Earth’s regenerative capacity. \nWhat You’ll Learn\nUnderstand ecological overshoot to inform sustainability strategies; track progress in reducing ecological footprint; apply insights to resource management and long-term business viability within planetary boundaries. \nWho Should Attend\nSustainability managers\, CSR directors\, business leaders in supply chain and operations\, policymakers\, and ESG professionals seeking to align operations with planetary limits. \nAbout the Event\nEarth Overshoot Day marks the date when humanity’s demand for ecological resources and services in a given year exceeds what Earth can regenerate that year. This ecological deficit is maintained by liquidating stocks of ecological resources and accumulating waste\, primarily carbon dioxide in the atmosphere. The date is calculated by the Global Footprint Network by dividing the planet’s biocapacity by humanity’s Ecological Footprint and multiplying by 365 days. It is announced annually on World Environment Day\, June 5. \nEvent Details\nOrganiser: Global Footprint Network \nOrganiser website:\n\n \nGlobal Footprint Network \n\n \nStart:\n\n2026-07-29\n \nEnd:\n \n  \nEvent link:\n\nView event details
URL:https://sbs.eco/sustainable-events/earth-overshoot-day/
LOCATION:Online\, -\, Global
CATEGORIES:International Awareness Days,Net Zero & Climate
ATTACH;FMTTYPE=image/png:https://sbs.eco/wp-content/uploads/2026/04/earth-overshoot-day-2026.png
END:VEVENT
BEGIN:VEVENT
DTSTART;VALUE=DATE:20260930
DTEND;VALUE=DATE:20261002
DTSTAMP:20260425T121101
CREATED:20260208T152421Z
LAST-MODIFIED:20260208T152421Z
UID:10000381-1790726400-1790899199@sbs.eco
SUMMARY:ReGeneration Earth UK 2026
DESCRIPTION:Flagship conference bringing UK regions together for cross-sector collaboration\, investment\, and green economy regeneration. \nWhat You’ll Learn\nInvestor connections\, cross-sector partnerships\, commercialisation opportunities\, inward investment pipelines for green projects. \nWho Should Attend\nSustainability leaders\, investors\, regional policymakers\, businesses in energy\, infrastructure\, manufacturing\, and green economy sectors. \nAbout the Event\nReGeneration Earth UK 2026 is Europe’s answer to COP\, uniting regions under one roof to connect investors\, businesses\, and public sector for inward investment and net zero transition. Focuses on immersive zones for future cities\, innovation\, and practical partnerships to accelerate the UK’s green economy. Organised by The Sustainability Community\, the event powers collaboration among leaders in sustainability\, enabling commercialisation\, investor pipelines\, and regional growth opportunities. \nEvent Details\nOrganiser: The Sustainability Community \nOrganiser website:\n\nhttps://www.thesustainabilitycommunity.com\n \nStart:\n\n2026-10-01\n \nEnd:\n\n2026-10-02\n \nEvent link:\n\nView event details
URL:https://sbs.eco/sustainable-events/regeneration-earth-uk-2026/
LOCATION:The Royal Armouries\, Leeds LS10 1LT\, Leeds\, UK
CATEGORIES:Innovation & Tech,Net Zero & Climate
ATTACH;FMTTYPE=image/jpeg:https://sbs.eco/wp-content/uploads/2026/02/great-yorkshire-events-centre-drone-esg-2.jpg
END:VEVENT
BEGIN:VEVENT
DTSTART;VALUE=DATE:20261119
DTEND;VALUE=DATE:20261120
DTSTAMP:20260425T121101
CREATED:20260309T160556Z
LAST-MODIFIED:20260309T160629Z
UID:10000411-1795046400-1795132799@sbs.eco
SUMMARY:The Clean Energy UK Conference 2026
DESCRIPTION:One-day conference in Newcastle upon Tyne exploring green energy\, skills\, and investment for the UK’s net zero economy. \nWhat You’ll Learn\nAccess insights on clean energy strategy\, funding pipelines\, workforce planning\, infrastructure innovations\, and partnership opportunities with investors and industry leaders. \nWho Should Attend\nEnergy sector leaders\, infrastructure professionals\, skills and workforce planners\, finance executives\, policymakers\, investors\, and clean energy innovators. \nAbout the Event\nThe Clean Energy UK Conference 2026 brings together national industry leaders\, innovators\, policymakers\, and investors to accelerate the UK’s clean energy transition. Held in Newcastle upon Tyne\, the event focuses on green energy production\, infrastructure\, skills\, and investment. Structured around content streams like Power UP (clean energy production\, storage\, infrastructure) and a hands-on workshop zone\, it features over 100 speakers and networking with 800+ cross-sector leaders from energy\, infrastructure\, skills\, and finance. The conference provides actionable insights for strategy\, funding\, workforce planning\, and partnerships to drive the UK’s net zero goals. \nEvent Details\nOrganiser: The Sustainability Community \nOrganiser website:\n\nhttps://www.thesustainabilitycommunity.com/\n \nStart:\n\n2026-11-19\n \nEnd:\n\n2026-11-19\n \nEvent link:\n\nView event details
URL:https://sbs.eco/sustainable-events/clean-energy-uk-conference-2026/
LOCATION:Newcastle\, Newcastle upon Tyne\, UK
CATEGORIES:Energy & Renewables,Net Zero & Climate,Skills & Workforce
ATTACH;FMTTYPE=image/png:https://sbs.eco/wp-content/uploads/2026/03/The-Clean-Energy-UK-Conference-2026.png
END:VEVENT
END:VCALENDAR