BEGIN:VCALENDAR
VERSION:2.0
PRODID:-//Sustainable Business Services - ECPv6.15.20//NONSGML v1.0//EN
CALSCALE:GREGORIAN
METHOD:PUBLISH
X-WR-CALNAME:Sustainable Business Services
X-ORIGINAL-URL:https://sbs.eco
X-WR-CALDESC:Events for Sustainable Business Services
REFRESH-INTERVAL;VALUE=DURATION:PT1H
X-Robots-Tag:noindex
X-PUBLISHED-TTL:PT1H
BEGIN:VTIMEZONE
TZID:UTC
BEGIN:STANDARD
TZOFFSETFROM:+0000
TZOFFSETTO:+0000
TZNAME:UTC
DTSTART:20240101T000000
END:STANDARD
END:VTIMEZONE
BEGIN:VEVENT
DTSTART;TZID=UTC:20250710T090000
DTEND;TZID=UTC:20250710T170000
DTSTAMP:20260424T072555
CREATED:20250630T164615Z
LAST-MODIFIED:20250630T164615Z
UID:10000232-1752138000-1752166800@sbs.eco
SUMMARY:Northern Sustainability Summit 2025
DESCRIPTION:Date and time\n\n\n \n\nThu\, 10 Jul 2025 09:00 – 17:00 BST\n\n\n\n\n\n\n\n\n\n\n\n\n\n\n\nLocation\n\n \n\nManchester Central Convention Complex \nWindmill Street Manchester M2 3GX \nGet directions\n\n\n\n\n\n\n\n\n\n\n\n\n\n\nAbout this event\n\n\nEvent lasts 8 hours\n\n\n\n\n\n\nThe Northern Sustainability Summit is back for 2025! It will bring together hundreds of business leaders from all sectors\, from those leading on sustainability to those who are in the early stages of their journey. \nHosted at the iconic Manchester Central\, last year’s event included over 40 speakers\, 45 exhibitors and over 800 registered delegates. \nThemes for 2025 will include the skills\, social impact\, supply chains\, infrastructure and development. Main stage content (running in the morning) will be a mix of panels\, keynotes at lightning talk. The afternoon will feature demos on the main stage and several breakout workshops. \nThe exhibition hall includes our “incubator within an incubator” competition winners\, sponsors and partners. \nPlease contact Ilona (ilona@elevategm.com) for information on sponsoring or exhibiting at the event. \nWith thanks to our sponsors and partners: Electricity North West\, Manchester Central\, the University of Salford and Manchester Met.
URL:https://sbs.eco/sustainable-events/northern-sustainability-summit-2025/
LOCATION:Manchester Central Convention Complex\, Windmill Street\, Manchester\, M2 3GX
CATEGORIES:Events,Sustainability
ATTACH;FMTTYPE=image/png:https://sbs.eco/wp-content/uploads/2025/06/northern-sustainability-sumit.png
END:VEVENT
END:VCALENDAR