BEGIN:VCALENDAR
VERSION:2.0
PRODID:-//Sustainable Business Services - ECPv6.15.20//NONSGML v1.0//EN
CALSCALE:GREGORIAN
METHOD:PUBLISH
X-ORIGINAL-URL:https://sbs.eco
X-WR-CALDESC:Events for Sustainable Business Services
REFRESH-INTERVAL;VALUE=DURATION:PT1H
X-Robots-Tag:noindex
X-PUBLISHED-TTL:PT1H
BEGIN:VTIMEZONE
TZID:UTC
BEGIN:STANDARD
TZOFFSETFROM:+0000
TZOFFSETTO:+0000
TZNAME:UTC
DTSTART:20240101T000000
END:STANDARD
END:VTIMEZONE
BEGIN:VEVENT
DTSTART;TZID=UTC:20250909T083000
DTEND;TZID=UTC:20250910T173000
DTSTAMP:20260424T061005
CREATED:20250831T161440Z
LAST-MODIFIED:20250831T161440Z
UID:10000247-1757406600-1757525400@sbs.eco
SUMMARY:Sustainability Live London
DESCRIPTION:Sustainability LIVE: London 2025 will take place on Tuesday 9 – Wednesday 10 September 2025 at the Business Design Centre\, London. As the UK’s flagship hybrid summit for sustainability leaders\, this two‑day conference and expo attracts over 3\,000 in-person and virtual attendees\, featuring 50+ internationally acclaimed speakers\, nine interactive panel discussions\, and four executive workshops. \nWhy attend Sustainability LIVE: London? Whether you’re a Chief Sustainability Officer\, ESG professional\, or sustainability innovator\, this event enables you to: \n\n\nEngage with thought leaders shaping the sustainability agenda through keynotes\, panels\, and workshops. \n\n\nExpand your network with global decision-makers in sustainable business\, ESG\, green energy\, supply chain\, and more Sustainability Magazine \n\n\nExplore emerging themes from nature-based solutions and energy transition to AI in sustainability\, circularity\, and diversity & inclusion . \n\n\nIn addition\, attend the Global Sustainability & ESG Awards\, our black‑tie gala held on 10 September at 8 Northumberland Avenue\, recognizing pioneering organizations and leaders driving positive environmental and social impact \nFor information on how to register\, view the agenda\, or get involved as a speaker or sponsor\, visit the Sustainability LIVE porta
URL:https://sbs.eco/sustainable-events/sustainability-live-london/
LOCATION:8 Northumberland Avenue\, London
CATEGORIES:Events,Sustainability
ATTACH;FMTTYPE=image/png:https://sbs.eco/wp-content/uploads/2025/08/sustainabiliy_live-25.png
END:VEVENT
END:VCALENDAR