BEGIN:VCALENDAR
VERSION:2.0
PRODID:-//Sustainable Business Services - ECPv6.15.20//NONSGML v1.0//EN
CALSCALE:GREGORIAN
METHOD:PUBLISH
X-WR-CALNAME:Sustainable Business Services
X-ORIGINAL-URL:https://sbs.eco
X-WR-CALDESC:Events for Sustainable Business Services
REFRESH-INTERVAL;VALUE=DURATION:PT1H
X-Robots-Tag:noindex
X-PUBLISHED-TTL:PT1H
BEGIN:VTIMEZONE
TZID:UTC
BEGIN:STANDARD
TZOFFSETFROM:+0000
TZOFFSETTO:+0000
TZNAME:UTC
DTSTART:20250101T000000
END:STANDARD
END:VTIMEZONE
BEGIN:VEVENT
DTSTART;TZID=UTC:20260324T080000
DTEND;TZID=UTC:20260327T170000
DTSTAMP:20260423T212848
CREATED:20260309T162823Z
LAST-MODIFIED:20260311T151552Z
UID:10000418-1774339200-1774630800@sbs.eco
SUMMARY:ClientEarth Summit 2026
DESCRIPTION:The ClientEarth Summit 2026: law and justice for a better future \nJustice doesn’t just happen by accident. It’s fought for\, defended\, and made real through action. \nThe ClientEarth Summit returns in 2026 for three days of thought-provoking conversations on the role the law plays in shaping our future. \nYou’ll hear from ClientEarth\, and our inspiring partners\, peers\, communities\, and global experts about how they put the law into practice\, leveraging its power to demand accountability. \nIn a world that’s changing daily\, often unpredictably and beyond imagination\, the Rule of Law and the Courts remain a key solution to protect our rights and our planet. \nJoin us for the discussion and have your say. \nSessions\n\n\n\n\n\n\n\n\n\n\n\n\n\n\n\n\n\n\n\n\n\nThe forever chemicals hiding in plain sight: how do you solve a problem like PFAS?\n\n\n\n\nTue\, Mar 24\, 2026 4:00 PM – 5:00 PM GMT\n\n\n\n\n\n\n\nPippa Neill\, Hélène Duguy\, Dharmesh Shah\n\n\n\n\n\n\n\nVirtual\n\n\n\n\n\n\n\n\n\n\n\n\n\n\n\n\n\n\nWhen ‘protected’ means protected: Marine conservation success stories\n\n\n\n\nTue\, Mar 24\, 2026 6:00 PM – 7:00 PM GMT\n\n\n\n\n\nKarlijn Steinbusch\, John Condon\, Ana Macarena Molina Hernández\n\n\n\n\n\n\n\nVirtual\n\n\n\n\n\n\n\n\n\n\n\n\n\n\n\n\n\n\nThe power of communication\n\n\n\n\nWed\, Mar 25\, 2026 9:30 AM – 10:30 AM GMT\n\n\n\n\n\nVirtual\n\n\n\n\n\n\n\n\n\n\n\n\n\n\n\n\n\n\nGabon’s Indigenous guardians: harnessing the law to protect land and life\n\n\n\n\nWed\, Mar 25\, 2026 2:00 PM – 3:00 PM GMT\n\nDiane Vandesmet\, Alex Ebang Mbele\, Clémence Tranchand\n\n\n\n\n\n\nVirtual\n\n\n\n\n\n\n\n\n\n\n\n\n\n\n\n\n\n\nThe hidden costs of AI: energy\, resources and environmental injustice\n\n\n\n\nWed\, Mar 25\, 2026 5:30 PM – 6:30 PM GMT\n\nNatascha Hospedales\, Christiaan van Veen\, Sebastian Smart\n\n\n\n\n\n\nVirtual\n\n\n\n\n\n\n\n\n\n\n\n\n\n\n\n\n\n\nClimate\, courts\, and the shifting world order: what comes next?\n\n\n\n\nThu\, Mar 26\, 2026 2:00 PM – 3:00 PM GMT\n\nAdam Weiss\, Flávia Bellaguarda\, Dr. Elisa Morgera\n\n\n\n\n\n\nVirtual\n\n\n\n\n\n\n\n\n\n\n\n\n\n\n\n\n\n\nClimate risk as financial risk: costs\, liabilities and litigation\n\n\n\n\nThu\, Mar 26\, 2026 5:30 PM – 6:30 PM GMT\n\n\n\n\n\n\n\nKimberly Blake\, Tanya Jemec
URL:https://sbs.eco/sustainable-events/clientearth-summit-2026/
LOCATION:Virtual
CATEGORIES:Policy & Regulation,Supply Chain & Scope 3,Sustainable Business
ATTACH;FMTTYPE=image/png:https://sbs.eco/wp-content/uploads/2026/03/Client-Earth-Summit-2026.png
END:VEVENT
END:VCALENDAR