BEGIN:VCALENDAR
VERSION:2.0
PRODID:-//Sustainable Business Services - ECPv6.15.20//NONSGML v1.0//EN
CALSCALE:GREGORIAN
METHOD:PUBLISH
X-WR-CALNAME:Sustainable Business Services
X-ORIGINAL-URL:https://sbs.eco
X-WR-CALDESC:Events for Sustainable Business Services
REFRESH-INTERVAL;VALUE=DURATION:PT1H
X-Robots-Tag:noindex
X-PUBLISHED-TTL:PT1H
BEGIN:VTIMEZONE
TZID:UTC
BEGIN:STANDARD
TZOFFSETFROM:+0000
TZOFFSETTO:+0000
TZNAME:UTC
DTSTART:20250101T000000
END:STANDARD
END:VTIMEZONE
BEGIN:VEVENT
DTSTART;TZID=UTC:20260326T083000
DTEND;TZID=UTC:20260326T223000
DTSTAMP:20260423T212002
CREATED:20260225T111847Z
LAST-MODIFIED:20260225T111847Z
UID:10000402-1774513800-1774564200@sbs.eco
SUMMARY:Practical Sustainability for Business: from Strategy to Action
DESCRIPTION:By North East Chamber of Commerce\n\n\n\n\n\nAccenture Newcastle upon Tyne\, England \nThursday\, Mar 26 from 8:30 am to 10:30 am\n\n\n\n\nOverview\n\n\n\n\nJoin us for an insightful morning about sustainability for business. \n\n\n\n\nThis event aims to support businesses in moving from sustainability ambition to meaningful action. \nBy bringing together regional employers\, the session will explore how sustainability can drive efficiency\, resilience\, and long-term value. Attendees will gain practical insight from sector-specific examples and real-world experience\, and leave with greater confidence to make informed\, measurable sustainability improvements within their organisation. \nThis is a jointly hosted event\, between the North East Chamber of Commerce (NECC) and North East Combined Authority (NECA) SHINE initiative. \nAs this is jointly hosted\, registration details (name\, company\, email) will be shared between both organisations. Please make a note during checkout should you not want details shared. \nBreakfast & refreshments will be provided on arrival. \nAgenda \n08:30 – 09:00 Arrival\, networking & breakfast \n09:00 – 09:05 Welcome and introductions (NECC/NECA) \n09:05 – 09:15 Presentation 1: Accenture \n\nGlobal business – local responsibility\nSustainability at Accenture Newcastle\n\n09:15 – 09:35 Presentation 2: Esh Group (Darush Dodds) \n\nEsh & Shine: What we do and why we do it\nThe Even Greener carbon reduction programme\nDelivering reduced emissions & improved financials\n\n09:35 – 09:55 Presentation 3: Suez Waste Management \n\nKey sustainability challenges within waste management\nPractical steps to reduce waste at source\nResource efficiency and circular practise\n\n09:55 – 10:15 Presentaion 4: iCOR Systems (Tamma Carel) \n\nSupporting SME’s through sustainability changes and challenges\nEnsuring impact with sustainability initiatives\n\n10:15 – 10:30 Panel discussion & open Q&A \n\nWhere can you realistically start on sustainability\nQuick wins vs long-term strategy\nCompetitive advantage\, risk management & profitibility\nSustainability as a driver of resilience and reputation\n\n10:30 event close \nWhat do I wear to a Chamber event: We don’t have a dress code\, but we suggest dressing as if meeting new clients. Your comfort is key. \nBehaviour and conduct: our events create an inclusive space for individuals and organisations to meet\, where we expect all our attendees to behave with courtesy and respect\, to both each other and Chamber colleagues. \nThis event is a joint event between NECA and NECC. You can find out more about NECA’s SHINE initiative HERE \nThis event is also supported by Suez\, with further information available HERE \nThank you to Accenture for hosting the event\, with further information HERE \n\n\n\n\n 
URL:https://sbs.eco/sustainable-events/practical-sustainability-for-business-from-strategy-to-action/
LOCATION:Accenture\, 5 Quick Silver Way\, Newcastle upon Tyne\, NE27 0QQ
ATTACH;FMTTYPE=image/png:https://sbs.eco/wp-content/uploads/2026/02/Practical-Sustainability-for-Business-from-Strategy-to-Action.png
END:VEVENT
END:VCALENDAR