BEGIN:VCALENDAR
VERSION:2.0
PRODID:-//Sustainable Business Services - ECPv6.15.20//NONSGML v1.0//EN
CALSCALE:GREGORIAN
METHOD:PUBLISH
X-WR-CALNAME:Sustainable Business Services
X-ORIGINAL-URL:https://sbs.eco
X-WR-CALDESC:Events for Sustainable Business Services
REFRESH-INTERVAL;VALUE=DURATION:PT1H
X-Robots-Tag:noindex
X-PUBLISHED-TTL:PT1H
BEGIN:VTIMEZONE
TZID:UTC
BEGIN:STANDARD
TZOFFSETFROM:+0000
TZOFFSETTO:+0000
TZNAME:UTC
DTSTART:20250101T000000
END:STANDARD
END:VTIMEZONE
BEGIN:VEVENT
DTSTART;TZID=UTC:20260423T080000
DTEND;TZID=UTC:20260423T100000
DTSTAMP:20260423T194750
CREATED:20260331T165520Z
LAST-MODIFIED:20260331T165520Z
UID:10000436-1776931200-1776938400@sbs.eco
SUMMARY:ESG April Mayfair London Networking Breakfast
DESCRIPTION:Overview\n\n\n\n\nESG Network London’s Premier Event To Talk Environmental\, Social & Governance Matters over Breakfast in The Heart of Mayfair \n\n\n\n\nESG Network is the only Business Network dedicated to professionals working within London’s many Environmental\, Social /Sustainable and Governance sectors. \nJoin us at the Famous Bonds of Mayfair for our April 2026 Networking Breakfast and join us in sampling their wonderful Breakfast\, Drinks and the opportunity to chat about the ESG sector\, learn more about the many related topics and make new friends and seek out fresh business leads. \nEach ticket includes unlimited teas\, coffees and juices and a full breakfast food buffet (including vegetarian options) and your own printed attendee sheet to take away. \n\n\n\n\nAll our networking events are extremely relaxed and casual affairs \n\nNo Dress Code\nNo Speeches\nNo Membership Fees\nNo Sales Presentations\n\nJust buy a ticket and turn up on the day and enjoy yourself!
URL:https://sbs.eco/sustainable-events/esg-april-mayfair-london-networking-breakfast/
LOCATION:Bonds Of Mayfair\, 11 Dering Street\, London\, W1S 1AR
CATEGORIES:ESG & Reporting,Networking
ATTACH;FMTTYPE=image/png:https://sbs.eco/wp-content/uploads/2026/03/ESG-Network.png
END:VEVENT
END:VCALENDAR