BEGIN:VCALENDAR
VERSION:2.0
PRODID:-//Sustainable Business Services - ECPv6.15.20//NONSGML v1.0//EN
CALSCALE:GREGORIAN
METHOD:PUBLISH
X-ORIGINAL-URL:https://sbs.eco
X-WR-CALDESC:Events for Sustainable Business Services
REFRESH-INTERVAL;VALUE=DURATION:PT1H
X-Robots-Tag:noindex
X-PUBLISHED-TTL:PT1H
BEGIN:VTIMEZONE
TZID:UTC
BEGIN:STANDARD
TZOFFSETFROM:+0000
TZOFFSETTO:+0000
TZNAME:UTC
DTSTART:20250101T000000
END:STANDARD
END:VTIMEZONE
BEGIN:VEVENT
DTSTART;TZID=UTC:20260430T093000
DTEND;TZID=UTC:20260430T153000
DTSTAMP:20260423T181736
CREATED:20260331T170017Z
LAST-MODIFIED:20260331T170017Z
UID:10000437-1777541400-1777563000@sbs.eco
SUMMARY:Introduction to Green Roofs
DESCRIPTION:Overview\n\n\n\n\nGet ready to dive into the world of green roofs at this interactive practical event – learn\, engage\, and be inspired! \n\n\n\n\nIntroduction to Green Roofs \nJoin Us for a Practical\, Insightful Introduction to Green Roofs \n30th April 2026 • 9:30–15:30 • Linford Wood\, Milton Keynes \nThe Living Roofs Academy is running a hands-on training day designed for anyone who wants to further their understanding of green roofs — from landscapers\, homeowners and designers to facilities teams\, planners\, and anyone curious about how urban greening can shape the future of our built environment. \nHosted at Linford Wood\, Milton Keynes\, this one-day course blends classroom learning with practical\, real-world demonstrations. With an on-site café and regular breaks\, it’s an accessible\, friendly\, and genuinely enjoyable way to build your knowledge. \nWhat You’ll Learn \nBy the end of the day\, attendees will gain a solid introductory grounding in: \n\nThe history and evolution of green roofs\nKey health & safety considerations\nStructural requirements and load implications\nOpportunities for urban greening and biodiversity\nFull breakdown of green roof components\nProject planning from concept to installation\nEnvironmental benefits\, including energy performance\nWater management and the role green roofs play in SUDS\nEmerging opportunities in energy generation on rooftops\n\nThis is designed for anyone who wants clear\, practical knowledge of green roofs in both the domestic and commercial sectors. \nCertification \nEveryone completing the course will receive a GRO (Green Roof Organisation) Introduction to Green Roofs certificate. \nFor those who want to advance further\, you’ll have the option to upgrade later to the GRO Skills Card through further training or an assessed module – ideal for professionals looking to evidence competence and move to the next level. \nSpaces Are Limited \nWe’re keeping the group to just 10 participants to ensure everyone gets individual attention and practical guidance.
URL:https://sbs.eco/sustainable-events/introduction-to-green-roofs/
LOCATION:Hayley Court\, Linford Wood\, MK14 6GD
CATEGORIES:Buildings,Knowledge
ATTACH;FMTTYPE=image/png:https://sbs.eco/wp-content/uploads/2026/03/Green-Roofs.png
END:VEVENT
END:VCALENDAR