BEGIN:VCALENDAR
VERSION:2.0
PRODID:-//Sustainable Business Services - ECPv6.15.20//NONSGML v1.0//EN
CALSCALE:GREGORIAN
METHOD:PUBLISH
X-ORIGINAL-URL:https://sbs.eco
X-WR-CALDESC:Events for Sustainable Business Services
REFRESH-INTERVAL;VALUE=DURATION:PT1H
X-Robots-Tag:noindex
X-PUBLISHED-TTL:PT1H
BEGIN:VTIMEZONE
TZID:UTC
BEGIN:STANDARD
TZOFFSETFROM:+0000
TZOFFSETTO:+0000
TZNAME:UTC
DTSTART:20250101T000000
END:STANDARD
END:VTIMEZONE
BEGIN:VEVENT
DTSTART;TZID=UTC:20260323T140000
DTEND;TZID=UTC:20260323T160000
DTSTAMP:20260423T212505
CREATED:20260225T111354Z
LAST-MODIFIED:20260225T111354Z
UID:10000401-1774274400-1774281600@sbs.eco
SUMMARY:Development and Sustainability Forum
DESCRIPTION:By North East Chamber of Commerce\n\n\nAddress Newcastle College Energy Academy Wallsend\, England \nMonday\, Mar 23 from 2 pm to 4 pm\n\nOverview\n\n\n\n\n\n\n\nNew Development and Sustainability Forum for business\, policy\, infrastructure and place leaders shaping net zero growth in the North East. \n\n\n\n\nJoin us for the new for 2026 Development and Sustainability Forum\, a practical\, action-oriented space bringing together leaders from business\, policy\, infrastructure\, planning\, energy and place. \nThis first forum will set the ambition\, principles and direction of the series\, creating a shared understanding of how sustainable development and energy infrastructure support jobs\, net zero delivery and prosperous places across the North East. The session will combine short scene-setting contributions (content TBC)\, networking\, and interactive discussion. \nAttendees can expect open conversation\, cross-sector insight and the opportunity to help shape the Forum’s priorities and themes for 2026. The event is designed to support collaboration\, inform decision-making and position the Forum as a trusted convening space for the region. \nHosted by North East Chamber of Commerce\, with contributions from regional partners including Northern Powergrid (speakers and agenda TBC).
URL:https://sbs.eco/sustainable-events/development-and-sustainability-forum/
LOCATION:Newcastle College Energy Academy\, Hadrian Road\, Wallsend\, NE28 6HH
CATEGORIES:Policy & Regulation,Sustainability
ATTACH;FMTTYPE=image/png:https://sbs.eco/wp-content/uploads/2026/02/NECC_Development-Sustainability-Forum-250226.png
END:VEVENT
END:VCALENDAR