BEGIN:VCALENDAR
VERSION:2.0
PRODID:-//Sustainable Business Services - ECPv6.15.20//NONSGML v1.0//EN
CALSCALE:GREGORIAN
METHOD:PUBLISH
X-WR-CALNAME:Sustainable Business Services
X-ORIGINAL-URL:https://sbs.eco
X-WR-CALDESC:Events for Sustainable Business Services
REFRESH-INTERVAL;VALUE=DURATION:PT1H
X-Robots-Tag:noindex
X-PUBLISHED-TTL:PT1H
BEGIN:VTIMEZONE
TZID:Europe/London
BEGIN:DAYLIGHT
TZOFFSETFROM:+0000
TZOFFSETTO:+0100
TZNAME:BST
DTSTART:20250330T010000
END:DAYLIGHT
BEGIN:STANDARD
TZOFFSETFROM:+0100
TZOFFSETTO:+0000
TZNAME:GMT
DTSTART:20251026T010000
END:STANDARD
BEGIN:DAYLIGHT
TZOFFSETFROM:+0000
TZOFFSETTO:+0100
TZNAME:BST
DTSTART:20260329T010000
END:DAYLIGHT
BEGIN:STANDARD
TZOFFSETFROM:+0100
TZOFFSETTO:+0000
TZNAME:GMT
DTSTART:20261025T010000
END:STANDARD
BEGIN:DAYLIGHT
TZOFFSETFROM:+0000
TZOFFSETTO:+0100
TZNAME:BST
DTSTART:20270328T010000
END:DAYLIGHT
BEGIN:STANDARD
TZOFFSETFROM:+0100
TZOFFSETTO:+0000
TZNAME:GMT
DTSTART:20271031T010000
END:STANDARD
END:VTIMEZONE
BEGIN:VEVENT
DTSTART;VALUE=DATE:20260403
DTEND;VALUE=DATE:20260404
DTSTAMP:20260423T194741
CREATED:20260204T103940Z
LAST-MODIFIED:20260204T103940Z
UID:10000372-1775174400-1775260799@sbs.eco
SUMMARY:Walk to Work Day
DESCRIPTION:Annual day encouraging walking to work to reduce carbon emissions\, improve health\, and promote sustainable commuting. \nWhat You’ll Learn\nReduce workplace carbon emissions through active commuting; promote employee health and productivity; foster team engagement via group walks or incentives. \nWho Should Attend\nHR managers\, sustainability officers\, workplace wellbeing leads in UK businesses. \nAbout the Event\nWalk to Work Day is observed on the first Friday of April. It promotes ditching cars or public transport for walking to work\, reducing carbon footprints and pollution while boosting physical health. The event advocates for walkable cities and pedestrian rights. Employers often encourage participation to support employee wellbeing. \nEvent Details\nOrganiser: Walk to Work Day \nOrganiser website: \nStart:\n\n2026-04-03\n \nEnd:\n\n2026-04-03\n \n 
URL:https://sbs.eco/sustainable-events/walk-to-work-day/
LOCATION:Online / Nationwide UK\, -\, UK
CATEGORIES:Campaign,Net Zero & Climate
ATTACH;FMTTYPE=image/png:https://sbs.eco/wp-content/uploads/2026/02/walk_2_work_day.png
END:VEVENT
END:VCALENDAR