BEGIN:VCALENDAR
VERSION:2.0
PRODID:-//Sustainable Business Services - ECPv6.15.20//NONSGML v1.0//EN
CALSCALE:GREGORIAN
METHOD:PUBLISH
X-WR-CALNAME:Sustainable Business Services
X-ORIGINAL-URL:https://sbs.eco
X-WR-CALDESC:Events for Sustainable Business Services
REFRESH-INTERVAL;VALUE=DURATION:PT1H
X-Robots-Tag:noindex
X-PUBLISHED-TTL:PT1H
BEGIN:VTIMEZONE
TZID:Europe/London
BEGIN:DAYLIGHT
TZOFFSETFROM:+0000
TZOFFSETTO:+0100
TZNAME:BST
DTSTART:20250330T010000
END:DAYLIGHT
BEGIN:STANDARD
TZOFFSETFROM:+0100
TZOFFSETTO:+0000
TZNAME:GMT
DTSTART:20251026T010000
END:STANDARD
BEGIN:DAYLIGHT
TZOFFSETFROM:+0000
TZOFFSETTO:+0100
TZNAME:BST
DTSTART:20260329T010000
END:DAYLIGHT
BEGIN:STANDARD
TZOFFSETFROM:+0100
TZOFFSETTO:+0000
TZNAME:GMT
DTSTART:20261025T010000
END:STANDARD
BEGIN:DAYLIGHT
TZOFFSETFROM:+0000
TZOFFSETTO:+0100
TZNAME:BST
DTSTART:20270328T010000
END:DAYLIGHT
BEGIN:STANDARD
TZOFFSETFROM:+0100
TZOFFSETTO:+0000
TZNAME:GMT
DTSTART:20271031T010000
END:STANDARD
END:VTIMEZONE
BEGIN:VEVENT
DTSTART;VALUE=DATE:20260303
DTEND;VALUE=DATE:20260305
DTSTAMP:20260423T225102
CREATED:20260120T085839Z
LAST-MODIFIED:20260120T085839Z
UID:10000347-1772496000-1772668799@sbs.eco
SUMMARY:Reset Connect North 2026
DESCRIPTION:Regional sustainability and net zero event bringing leaders\, investors\, innovators. \nWhat You’ll Learn\nAccess funding\, partnerships for sustainable growth. \nWho Should Attend\nBusiness leaders\, government bodies\, innovators. \nAbout the Event\nDebuts in North of England at Royal Armouries\, tools\, funding\, partnerships for green revolution. \n\nConnecting leaders\, investors and innovators to drive sustainable growth across the UK’s green economy\n\n\nReset Connect North will make its debut on 3-4 March 2026 at the Royal Armouries in Leeds. We are proud to welcome KPMG as our headline sponsor and the West Yorkshire Combined Authority as strategic partner\, setting the stage for an inspiring and impactful inaugural event. \nTaking place during the West Yorkshire Innovation Festival\, Reset Connect North is the premier regional edition of the UK’s award-winning sustainability and net zero event\, designed to bring our proven exhibition-led format to the North of England. \nThe event will empower regional businesses\, investors and government bodies. It will provide your organisation with the tools\, access to funding and partnerships you need to lead the green industrial revolution. \nRegistration for the event is now open! Book your free pass or join us as a VIP and save 30% on your pass with our preview rate by 23 January. \n\nEvent Details\nOrganiser: \nOrganiser website: Reset Connect North 2026 | Leading Net-Zero Event in Leeds \n  \nStart:\n\n2026-03-03\n \nEnd:\n\n2026-03-04\n \nEvent link:\n\nView event details
URL:https://sbs.eco/sustainable-events/reset-connect-north-2026/
LOCATION:Royal Armouries\, -\, UK
CATEGORIES:Net Zero & Climate
ATTACH;FMTTYPE=image/png:https://sbs.eco/wp-content/uploads/2026/01/Reset_Connect-2026.png
END:VEVENT
END:VCALENDAR