BEGIN:VCALENDAR
VERSION:2.0
PRODID:-//Sustainable Business Services - ECPv6.15.20//NONSGML v1.0//EN
CALSCALE:GREGORIAN
METHOD:PUBLISH
X-ORIGINAL-URL:https://sbs.eco
X-WR-CALDESC:Events for Sustainable Business Services
REFRESH-INTERVAL;VALUE=DURATION:PT1H
X-Robots-Tag:noindex
X-PUBLISHED-TTL:PT1H
BEGIN:VTIMEZONE
TZID:UTC
BEGIN:STANDARD
TZOFFSETFROM:+0000
TZOFFSETTO:+0000
TZNAME:UTC
DTSTART:20240101T000000
END:STANDARD
END:VTIMEZONE
BEGIN:VEVENT
DTSTART;TZID=UTC:20250912T100000
DTEND;TZID=UTC:20250912T120000
DTSTAMP:20260424T060435
CREATED:20250806T072741Z
LAST-MODIFIED:20250806T072741Z
UID:10000244-1757671200-1757678400@sbs.eco
SUMMARY:The Blackberry Line - Walk and Talk Workshop
DESCRIPTION:Date and time\n\n\n \n\nFriday\, September 12 · 10am – 12pm GMT+1\n\n\n\n\n\n\n\n\n\n\n\n\n\n\n\nLocation\n\n \n\nSt Nicks – Nature Reserve & Environment Centre \nRawdon Avenue York YO10 3FW \nGet directions\n\n\n\n\n\n\n\n\n\n\n\n\n\n\nAbout this event\n\n\nEvent lasts 2 hours\n\n\n\n\n\n\nDuring this two hour ‘walk and talk’ workshop we will share and discuss stories of the old Derwent Valley Light Railway or ‘Blackberry Line’ that is now a footpath and cycle path through Tang Hall\, York. Our aim is to gather stories of the line – past and present – that could help other people discover this special green space through a short film and website. \n  \nWe will meet at St Nicks Environment Centre and go on a short walk along the Blackberry Line to refresh memories\, share stories\, and – perhaps – pick a blackberry or two. We’ll then return to St Nicks for a hot drink and some blackberry bakes\, and discuss our stories and how they might inspire the film and
URL:https://sbs.eco/sustainable-events/the-blackberry-line-walk-and-talk-workshop/
LOCATION:St Nicks – Nature Reserve & Environment Centre\, St Nicks - Nature Reserve & Environment Centre Rawdon Avenue\, York\, YO10 3FW
CATEGORIES:Nature,Networking
ATTACH;FMTTYPE=image/png:https://sbs.eco/wp-content/uploads/2025/08/Blackberry_Line.png
END:VEVENT
END:VCALENDAR