BEGIN:VCALENDAR
VERSION:2.0
PRODID:-//Sustainable Business Services - ECPv6.15.20//NONSGML v1.0//EN
CALSCALE:GREGORIAN
METHOD:PUBLISH
X-WR-CALNAME:Sustainable Business Services
X-ORIGINAL-URL:https://sbs.eco
X-WR-CALDESC:Events for Sustainable Business Services
REFRESH-INTERVAL;VALUE=DURATION:PT1H
X-Robots-Tag:noindex
X-PUBLISHED-TTL:PT1H
BEGIN:VTIMEZONE
TZID:UTC
BEGIN:STANDARD
TZOFFSETFROM:+0000
TZOFFSETTO:+0000
TZNAME:UTC
DTSTART:20240101T000000
END:STANDARD
END:VTIMEZONE
BEGIN:VEVENT
DTSTART;TZID=UTC:20251203T100000
DTEND;TZID=UTC:20251203T113000
DTSTAMP:20260423T224906
CREATED:20251202T084602Z
LAST-MODIFIED:20251202T084602Z
UID:10000286-1764756000-1764761400@sbs.eco
SUMMARY:RESP Webinar: Energy Strategy & Investment
DESCRIPTION:Details\nOverview of NESO methodology for the Specification of areas of Strategic Investment Needs product. This product will identify areas of energy need in each nation and region which are strategically significant and more complex due to timescales\, geography\, or required trade-offs between energy types\, priorities or stakeholders. These investments\, if enabled through the appropriate network investment\, will unlock system-wide value\, accelerate decarbonisation\, and support long-term economic development. \n\n\n\n\nSpeakers (3)\n\n\n\n\n\nJonny Sadler [NESO]RESP Stakeholder Manager\n\n\n\nElgan Roberts [NESO]RESP Strategic Lead\n\n\n\nKatie HarrisonRegional Energy Strategic Planner Projects Lead\n\n\n\n\n\n\n\n\n\nRegister\n\n\n\n\n\n\nWed\, Dec 03\n\n\n10:00 AM – 11:30 AM GMT
URL:https://sbs.eco/sustainable-events/regional-energy-strategic-planning-webinar/
LOCATION:Virtual
CATEGORIES:Energy,Policy
ATTACH;FMTTYPE=image/png:https://sbs.eco/wp-content/uploads/2025/12/NESO.png
END:VEVENT
BEGIN:VEVENT
DTSTART;TZID=UTC:20251104T080000
DTEND;TZID=UTC:20251105T170000
DTSTAMP:20260423T224906
CREATED:20251030T081633Z
LAST-MODIFIED:20251030T081633Z
UID:10000262-1762243200-1762362000@sbs.eco
SUMMARY:ICAEW Sustainability Summit
DESCRIPTION:4-5 November 2025\, Virtual event \nThis two-day summit is designed to provide finance professionals with the practical insights and strategies necessary to lead on sustainability. \n\nHighlights\n\n The ICAEW Sustainability Summit dives into the heart of the issues for those working in business\, practice\, financial institutions\, and NGOs to enable you to drive meaningful action on climate\, nature and social impact within your organisation and beyond. Start taking action today.\n\nAgenda – Tuesday 4th November\n\nFrom number cruncher to value creator: how finance professionals are shaping purpose\, people\, and performance\n\nWhat does good growth look like?\n\nHow to get organisational buy-in for sustainability\n\n\nWednesday 5th November\n\nBuilding sustainability into business strategy \nEmbedding nature information in financial decision making \nSustainability reporting and assurance: What’s coming and best practice
URL:https://sbs.eco/sustainable-events/icaew-sustainability-summit/
LOCATION:Virtual
CATEGORIES:Finance,Sustainability
ATTACH;FMTTYPE=image/png:https://sbs.eco/wp-content/uploads/2025/10/ICAEW-Sustainability-Summit-2025.png
END:VEVENT
END:VCALENDAR