BEGIN:VCALENDAR
VERSION:2.0
PRODID:-//Sustainable Business Services - ECPv6.15.20//NONSGML v1.0//EN
CALSCALE:GREGORIAN
METHOD:PUBLISH
X-WR-CALNAME:Sustainable Business Services
X-ORIGINAL-URL:https://sbs.eco
X-WR-CALDESC:Events for Sustainable Business Services
REFRESH-INTERVAL;VALUE=DURATION:PT1H
X-Robots-Tag:noindex
X-PUBLISHED-TTL:PT1H
BEGIN:VTIMEZONE
TZID:UTC
BEGIN:STANDARD
TZOFFSETFROM:+0000
TZOFFSETTO:+0000
TZNAME:UTC
DTSTART:20240101T000000
END:STANDARD
END:VTIMEZONE
BEGIN:VEVENT
DTSTART;TZID=UTC:20251105T160000
DTEND;TZID=UTC:20251105T170000
DTSTAMP:20260424T030556
CREATED:20251030T102753Z
LAST-MODIFIED:20251030T102753Z
UID:10000265-1762358400-1762362000@sbs.eco
SUMMARY:Gift Wrapping with a Conscience
DESCRIPTION:Bring your own gift and learn how to gift wrap sustainably at this interactive workshop\, powered by Forbes Finishings. \nJoin us to learn how to gift wrap with a conscience. Gift wrapping expert Aoife Forbes of Forbes Finishings will be showing us how to ditch the Sellotape\,  create minimal waste\, and offer creative alternatives to wrapping paper. She’ll also show us imaginative tips for adding personal and unique touches to presents. She will give us a step by step tutorial for achieving luxe-looks for less and a professional edge to our gift presentations. You will never wrap the same way after this! \nProceeds from ticket sales go to the B Local NE charity partner Point North Community Foundation.
URL:https://sbs.eco/sustainable-events/eco-friendly-gift-wrapping-event/
LOCATION:We Are Umi\, Navigators Point Belmont Business Park\, Durham\, DH1 1TW
ATTACH;FMTTYPE=image/png:https://sbs.eco/wp-content/uploads/2025/10/B-Local_Gift_Wrapping.png
END:VEVENT
BEGIN:VEVENT
DTSTART;TZID=UTC:20250702T160000
DTEND;TZID=UTC:20250702T190000
DTSTAMP:20260424T030556
CREATED:20250630T091333Z
LAST-MODIFIED:20250630T091333Z
UID:10000222-1751472000-1751482800@sbs.eco
SUMMARY:Shine Roadshow - Durham
DESCRIPTION:Join SHINE\, the North East’s new employer accreditation programme\, backed by North East Mayor Kim McGuinness! We’re hitting the road this July\, helping businesses like yours create more fulfilling\, fair\, and sustainable workplaces. \nWhy join the FREE SHINE Roadshow? \n\nAttract & keep great talent: Strengthen your employer appeal.\nShow you care: Demonstrate commitment to fair pay\, skills & sustainable growth.\nGet recognised: Receive tools\, support & recognition for building a better business.\n\nMeet the Experts & Leaders Near You:  \nThese free in-person events offer a unique chance to learn\, network\, and take the first step towards recognition: \n\n🤝 July 2\, UMi Durham: Nicki Clark OBE on employee engagement\, communication & trust.\n❤️ July 3\, Gateshead College: Ivan Jepson\, Director of Business Development & Innovation\, and Lori Casson\, Head of People\, on employee wellbeing\, morale & inclusion.\n🌟 July 8 – Lola Jeans\, North Shields: North East Mayor Kim McGuinness on vision for a stronger economy & quality jobs.\n⚖️ July 9\, Ward Hadaway\, Newcastle: Jamie Gamble on legal frameworks & leadership for employee wellbeing.\n⚓ July 10\, Blyth Tall Ship\, Northumberland: Blyth Tall Ship on supporting local initiatives & how building partnerships can boost your brand & employee morale.\n🧘‍♀️ July 14\, Orbit\, Durham: Bethany Ainsley (OptiMe) on workplace wellbeing strategies.\n💡 July 15\, Alnwick Playhouse\, Northumberland: Tracey Elvin (NECA) on work-life balance & Sam Spoors (Talentheads) on job security.\n🌍 July 16\, City Hall\, Sunderland: Guest speaker on embedding sustainability & social impact.\n\nWhether you’re leading the way or just starting\, SHINE is your opportunity to stand out! \nFind your nearest event & book your FREE ticket today!
URL:https://sbs.eco/sustainable-events/shine-roadshow-durham/
LOCATION:We Are Umi\, Navigators Point Belmont Business Park\, Durham\, DH1 1TW
CATEGORIES:Business for Good,ESG
ATTACH;FMTTYPE=image/png:https://sbs.eco/wp-content/uploads/2025/06/SHINE_Roadshows.png
END:VEVENT
END:VCALENDAR